Workbook
Name valeur: listes!$B$4:$B$6

Sheet Accueil
A1: Evaluations diagnostiques des élèves au CP
B5: 1
C7: Ce fichier tableur comporte 5 feuilles (y compris cette page d'accueil)
C9: On passe d'une feuille à l'autre en cliquant sur les onglets qui se trouvent en bas à gauche du classeur.
I12: ONGLETS
C13: Onglet "Classe" : feuille de saisie des noms des élèves de la classe. Y saisir le nom et le prénom des élèves dans les deux premières colonnes . Ces informations seront automatiquement reportées dans la dernière colonne (élève) ainsi que dans le tableau de saisie des codes.(onglet "Saisie")
C17: Onglet "Saisie" : feuille de saisie des codes de correction. Y saisir les valeurs attendues (0,1,2,3,9,ABS) soit : - directement dans la cellule à partir du clavier - en cliquant dans le menu de la liste déroulante signalée par une flèche sur le coté droit de la cellule concernée.
C19: La feuille "Saisie" permet d'obtenir automatiquement les pourcentages de réussites :
C20: *par item (dernière colonne du tableau) | H20: *par élève (dernière ligne du tableau)
B23: 2
C25: Il faut remplir un fichier par classe et non par école.
C29: Pour renommer l'onglet avec le nom de la classe
C30: 1. Cliquer droit sur l'onglet
C31: 2. Choisir "renommer" dans le menu déroulant
C32: 3. Pour valider et sortir, cliquer n'importe où ailleurs sur la page
B37: 3
C39: Les onglets suivants vous permettent de consulter les bilans par élèves, pour votre classe et par tâche.
C41: Dans l'onglet "Bilan Elève", choisissez le nom de l'élève dont vous voulez voir les réussites (codes 1 et 2 compilés)
C42: Dans l'onglet "Bilan classe, vous trouverez : - les réussites (codes 1 et 2 compilés) de l'ensemble des élèves par tâche. Il est possible de voir les non réponses ou les erreurs en choisissant le code idoine dans la cellule "code" - le classement de vos élèves en fonction de leur réussite pour chacune des tâches. Sélectionnez la tâche, le graphique s'actualise automatiquement.
B45: 4
C47: Les feuilles sont protégées afin que l'on ne puisse pas effacer une formule par erreur.
B53: 5
C55: Consulter les bilans élèves
C57: Cliquer sur la flèche grise pour sélectionner le nom de l'élève dont vous voulez afficher le bilan.
C59: Consulter le bilan de la classe et les résultats par tâche
C62: Quand vous aurez saisi les résultats de vos élèves, les taux de réussite (code 1 et 2) par tâche en français et mathématiques s'afficheront sous forme de graphique.
C69: Il est possible d'afficher également les échecs ou les non-réponses en cliquant sur la case orangée puis sur la flèche grise.
C71: Consulter les bilans par tâche
C74: Cliquer sur la case contenant les noms des tâches puis sur la flèche grise qui apparait. Choisir la tâche dans la liste. Le graphique s'actualise automatiquement. Si ce n'est pas le cas, répéter l'opération.

Sheet Classe
C2: Ecole :
C3: Commune :
C4: Adresse :
C6: Classe :
C9: Nom | D9: Prénom | E9: Elève
B10: 1 | E10: =CONCATENATE(C10," ",D10)
B11: 2 | E11: =CONCATENATE(C11," ",D11)
B12: 3 | E12: =CONCATENATE(C12," ",D12)
B13: 4 | E13: =CONCATENATE(C13," ",D13)
B14: 5 | E14: =CONCATENATE(C14," ",D14)
B15: 6 | E15: =CONCATENATE(C15," ",D15)
B16: 7 | E16: =CONCATENATE(C16," ",D16)
B17: 8 | E17: =CONCATENATE(C17," ",D17)
B18: 9 | E18: =CONCATENATE(C18," ",D18)
B19: 10 | E19: =CONCATENATE(C19," ",D19)
B20: 11 | E20: =CONCATENATE(C20," ",D20)
B21: 12 | E21: =CONCATENATE(C21," ",D21)
... B38: 29 | E38: =CONCATENATE(C38," ",D38)
C39: nombre d'élèves de la classe : | E39: =COUNTA(C10:C38) -> 0

Sheet Saisie
A1: Ecole : | B1: =Classe!D2 -> 0
A2: Commune : | B2: =Classe!D3 -> 0
A3: Adresse : | B3: =Classe!D4 -> 0
A4: Classe de : | B4: =Classe!D6 -> 0 | I4: =Classe!E39 -> 0
A8: Pour saisir vos résultats, utilisez de préférence, les flèches de votre clavier. Il suffit ensuite d'entrer la valeur 1 ,2,3,9 ,0 ou ABS puis de valider en appuyant sur la flèche vers le bas ou vers la droite pour passer à l'Item ou à l'élève suivant. | D8: =Classe!$B10 -> 1 | E8: =Classe!$B11 -> 2 | F8: =Classe!$B12 -> 3 | G8: =Classe!$B13 -> 4 | H8: =Classe!$B14 -> 5 | I8: =Classe!$B15 -> 6 | J8: =Classe!$B16 -> 7 | K8: =Classe!$B17 -> 8 | L8: =Classe!$B18 -> 9 | M8: =Classe!$B19 -> 10 | N8: =Classe!$B20 -> 11 | O8: =Classe!$B21 -> 12 | P8: =Classe!$B22 -> 13 | Q8: =Classe!$B23 -> 14 | R8: =Classe!$B24 -> 15 | S8: =Classe!$B25 -> 16 | T8: =Classe!$B26 -> 17 | U8: =Classe!$B27 -> 18 | V8: =Classe!$B28 -> 19 | W8: =Classe!$B29 -> 20 | X8: =Classe!$B30 -> 21 | Y8: =Classe!$B31 -> 22 | Z8: =Classe!$B32 -> 23 | AA8: =Classe!$B33 -> 24 | AB8: =Classe!$B34 -> 25 | AC8: =Classe!$B35 -> 26 | AD8: =Classe!$B36 -> 27 | AE8: =Classe!$B37 -> 28 | AF8: =Classe!$B38 -> 29 | AG8: Total réponses item
A9: Maths | D9: =Classe!$E10 | E9: =Classe!$E11 | F9: =Classe!$E12 | G9: =Classe!$E13 | H9: =Classe!$E14 | I9: =Classe!$E15 | J9: =Classe!$E16 | K9: =Classe!$E17 | L9: =Classe!$E18 | M9: =Classe!$E19 | N9: =Classe!$E20 | O9: =Classe!$E21 | P9: =Classe!$E22 | Q9: =Classe!$E23 | R9: =Classe!$E24 | S9: =Classe!$E25 | T9: =Classe!$E26 | U9: =Classe!$E27 | V9: =Classe!$E28 | W9: =Classe!$E29 | X9: =Classe!$E30 | Y9: =Classe!$E31 | Z9: =Classe!$E32 | AA9: =Classe!$E33 | AB9: =Classe!$E34 | AC9: =Classe!$E35 | AD9: =Classe!$E36 | AE9: =Classe!$E37 | AF9: =Classe!$E38 | AG9: 1 | AJ9: 9 | AK9: 0 | AL9: ABS | AM9: Réussite
A10: Domaine | B10: Numéro exercice | C10: Item | AH10: 2 | AI10: 3
A11: Mathématiques | B11: 1 | C11: 1 | AG11: =COUNTIF(D11:AF11,1) -> 0 | AH11: =COUNTIF(D11:AF11,2) -> 0 | AI11: =COUNTIF(D11:AF11,3) -> 0 | AJ11: =COUNTIF(D11:AF11,9) -> 0 | AK11: =COUNTIF(D11:AF11,0) -> 0 | AL11: =COUNTIF(D11:AF11,"ABS") -> 0 | AM11: =IF(ISERROR(AG11/($I$4-AL11)),"-",AG11/($I$4-AL11)) -> -
C12: 2 | AG12: =COUNTIF(D12:AF12,1) -> 0 | AH12: =COUNTIF(D12:AF12,2) -> 0 | AI12: =COUNTIF(D12:AF12,3) -> 0 | AJ12: =COUNTIF(D12:AF12,9) -> 0 | AK12: =COUNTIF(D12:AF12,0) -> 0 | AL12: =COUNTIF(D12:AF12,"ABS") -> 0 | AM12: =IF(ISERROR(AG12/($I$4-AL12)),"-",AG12/($I$4-AL12)) -> -
B13: 2 | C13: 3 | AG13: =COUNTIF(D13:AF13,1) -> 0 | AH13: =COUNTIF(D13:AF13,2) -> 0 | AI13: =COUNTIF(D13:AF13,3) -> 0 | AJ13: =COUNTIF(D13:AF13,9) -> 0 | AK13: =COUNTIF(D13:AF13,0) -> 0 | AL13: =COUNTIF(D13:AF13,"ABS") -> 0 | AM13: =IF(ISERROR(AG13/($I$4-AL13)),"-",AG13/($I$4-AL13)) -> -
B14: 3 | C14: 4 | AG14: =COUNTIF(D14:AF14,1) -> 0 | AH14: =COUNTIF(D14:AF14,2) -> 0 | AI14: =COUNTIF(D14:AF14,3) -> 0 | AJ14: =COUNTIF(D14:AF14,9) -> 0 | AK14: =COUNTIF(D14:AF14,0) -> 0 | AL14: =COUNTIF(D14:AF14,"ABS") -> 0 | AM14: =IF(ISERROR(AG14/($I$4-AL14)),"-",AG14/($I$4-AL14)) -> -
C15: 5 | AG15: =COUNTIF(D15:AF15,1) -> 0 | AH15: =COUNTIF(D15:AF15,2) -> 0 | AI15: =COUNTIF(D15:AF15,3) -> 0 | AJ15: =COUNTIF(D15:AF15,9) -> 0 | AK15: =COUNTIF(D15:AF15,0) -> 0 | AL15: =COUNTIF(D15:AF15,"ABS") -> 0 | AM15: =IF(ISERROR(AG15/($I$4-AL15)),"-",AG15/($I$4-AL15)) -> -
C16: 6 | AG16: =COUNTIF(D16:AF16,1) -> 0 | AH16: =COUNTIF(D16:AF16,2) -> 0 | AI16: =COUNTIF(D16:AF16,3) -> 0 | AJ16: =COUNTIF(D16:AF16,9) -> 0 | AK16: =COUNTIF(D16:AF16,0) -> 0 | AL16: =COUNTIF(D16:AF16,"ABS") -> 0 | AM16: =IF(ISERROR(AG16/($I$4-AL16)),"-",AG16/($I$4-AL16)) -> -
B17: 4 | C17: 7 | AG17: =COUNTIF(D17:AF17,1) -> 0 | AH17: =COUNTIF(D17:AF17,2) -> 0 | AI17: =COUNTIF(D17:AF17,3) -> 0 | AJ17: =COUNTIF(D17:AF17,9) -> 0 | AK17: =COUNTIF(D17:AF17,0) -> 0 | AL17: =COUNTIF(D17:AF17,"ABS") -> 0 | AM17: =IF(ISERROR(AG17/($I$4-AL17)),"-",AG17/($I$4-AL17)) -> -
C18: 8 | AG18: =COUNTIF(D18:AF18,1) -> 0 | AH18: =COUNTIF(D18:AF18,2) -> 0 | AI18: =COUNTIF(D18:AF18,3) -> 0 | AJ18: =COUNTIF(D18:AF18,9) -> 0 | AK18: =COUNTIF(D18:AF18,0) -> 0 | AL18: =COUNTIF(D18:AF18,"ABS") -> 0 | AM18: =IF(ISERROR(AG18/($I$4-AL18)),"-",AG18/($I$4-AL18)) -> -
C19: 9 | AG19: =COUNTIF(D19:AF19,1) -> 0 | AH19: =COUNTIF(D19:AF19,2) -> 0 | AI19: =COUNTIF(D19:AF19,3) -> 0 | AJ19: =COUNTIF(D19:AF19,9) -> 0 | AK19: =COUNTIF(D19:AF19,0) -> 0 | AL19: =COUNTIF(D19:AF19,"ABS") -> 0 | AM19: =IF(ISERROR(AG19/($I$4-AL19)),"-",AG19/($I$4-AL19)) -> -
B20: 5 | C20: 10 | AG20: =COUNTIF(D20:AF20,1) -> 0 | AH20: =COUNTIF(D20:AF20,2) -> 0 | AI20: =COUNTIF(D20:AF20,3) -> 0 | AJ20: =COUNTIF(D20:AF20,9) -> 0 | AK20: =COUNTIF(D20:AF20,0) -> 0 | AL20: =COUNTIF(D20:AF20,"ABS") -> 0 | AM20: =IF(ISERROR(AG20/($I$4-AL20)),"-",AG20/($I$4-AL20)) -> -
B21: 6 | C21: 11 | AG21: =COUNTIF(D21:AF21,1) -> 0 | AH21: =COUNTIF(D21:AF21,2) -> 0 | AI21: =COUNTIF(D21:AF21,3) -> 0 | AJ21: =COUNTIF(D21:AF21,9) -> 0 | AK21: =COUNTIF(D21:AF21,0) -> 0 | AL21: =COUNTIF(D21:AF21,"ABS") -> 0 | AM21: =IF(ISERROR(AG21/($I$4-AL21)),"-",AG21/($I$4-AL21)) -> -
C22: 12 | AG22: =COUNTIF(D22:AF22,1) -> 0 | AH22: =COUNTIF(D22:AF22,2) -> 0 | AI22: =COUNTIF(D22:AF22,3) -> 0 | AJ22: =COUNTIF(D22:AF22,9) -> 0 | AK22: =COUNTIF(D22:AF22,0) -> 0 | AL22: =COUNTIF(D22:AF22,"ABS") -> 0 | AM22: =IF(ISERROR(AG22/($I$4-AL22)),"-",AG22/($I$4-AL22)) -> -
C23: 13 | AG23: =COUNTIF(D23:AF23,1) -> 0 | AH23: =COUNTIF(D23:AF23,2) -> 0 | AI23: =COUNTIF(D23:AF23,3) -> 0 | AJ23: =COUNTIF(D23:AF23,9) -> 0 | AK23: =COUNTIF(D23:AF23,0) -> 0 | AL23: =COUNTIF(D23:AF23,"ABS") -> 0 | AM23: =IF(ISERROR(AG23/($I$4-AL23)),"-",AG23/($I$4-AL23)) -> -
C24: 14 | AG24: =COUNTIF(D24:AF24,1) -> 0 | AH24: =COUNTIF(D24:AF24,2) -> 0 | AI24: =COUNTIF(D24:AF24,3) -> 0 | AJ24: =COUNTIF(D24:AF24,9) -> 0 | AK24: =COUNTIF(D24:AF24,0) -> 0 | AL24: =COUNTIF(D24:AF24,"ABS") -> 0 | AM24: =IF(ISERROR(AG24/($I$4-AL24)),"-",AG24/($I$4-AL24)) -> -
C25: 15 | AG25: =COUNTIF(D25:AF25,1) -> 0 | AH25: =COUNTIF(D25:AF25,2) -> 0 | AI25: =COUNTIF(D25:AF25,3) -> 0 | AJ25: =COUNTIF(D25:AF25,9) -> 0 | AK25: =COUNTIF(D25:AF25,0) -> 0 | AL25: =COUNTIF(D25:AF25,"ABS") -> 0 | AM25: =IF(ISERROR(AG25/($I$4-AL25)),"-",AG25/($I$4-AL25)) -> -
B26: 7 | C26: 16 | AG26: =COUNTIF(D26:AF26,1) -> 0 | AH26: =COUNTIF(D26:AF26,2) -> 0 | AI26: =COUNTIF(D26:AF26,3) -> 0 | AJ26: =COUNTIF(D26:AF26,9) -> 0 | AK26: =COUNTIF(D26:AF26,0) -> 0 | AL26: =COUNTIF(D26:AF26,"ABS") -> 0 | AM26: =IF(ISERROR(AG26/($I$4-AL26)),"-",AG26/($I$4-AL26)) -> -
C27: 17 | AG27: =COUNTIF(D27:AF27,1) -> 0 | AH27: =COUNTIF(D27:AF27,2) -> 0 | AI27: =COUNTIF(D27:AF27,3) -> 0 | AJ27: =COUNTIF(D27:AF27,9) -> 0 | AK27: =COUNTIF(D27:AF27,0) -> 0 | AL27: =COUNTIF(D27:AF27,"ABS") -> 0 | AM27: =IF(ISERROR(AG27/($I$4-AL27)),"-",AG27/($I$4-AL27)) -> -
C28: 18 | AG28: =COUNTIF(D28:AF28,1) -> 0 | AH28: =COUNTIF(D28:AF28,2) -> 0 | AI28: =COUNTIF(D28:AF28,3) -> 0 | AJ28: =COUNTIF(D28:AF28,9) -> 0 | AK28: =COUNTIF(D28:AF28,0) -> 0 | AL28: =COUNTIF(D28:AF28,"ABS") -> 0 | AM28: =IF(ISERROR(AG28/($I$4-AL28)),"-",AG28/($I$4-AL28)) -> -
C29: 19 | AG29: =COUNTIF(D29:AF29,1) -> 0 | AH29: =COUNTIF(D29:AF29,2) -> 0 | AI29: =COUNTIF(D29:AF29,3) -> 0 | AJ29: =COUNTIF(D29:AF29,9) -> 0 | AK29: =COUNTIF(D29:AF29,0) -> 0 | AL29: =COUNTIF(D29:AF29,"ABS") -> 0 | AM29: =IF(ISERROR(AG29/($I$4-AL29)),"-",AG29/($I$4-AL29)) -> -
B30: 8 | C30: 20 | AG30: =COUNTIF(D30:AF30,1) -> 0 | AH30: =COUNTIF(D30:AF30,2) -> 0 | AI30: =COUNTIF(D30:AF30,3) -> 0 | AJ30: =COUNTIF(D30:AF30,9) -> 0 | AK30: =COUNTIF(D30:AF30,0) -> 0 | AL30: =COUNTIF(D30:AF30,"ABS") -> 0 | AM30: =IF(ISERROR(AG30/($I$4-AL30)),"-",AG30/($I$4-AL30)) -> -
C31: 21 | AG31: =COUNTIF(D31:AF31,1) -> 0 | AH31: =COUNTIF(D31:AF31,2) -> 0 | AI31: =COUNTIF(D31:AF31,3) -> 0 | AJ31: =COUNTIF(D31:AF31,9) -> 0 | AK31: =COUNTIF(D31:AF31,0) -> 0 | AL31: =COUNTIF(D31:AF31,"ABS") -> 0 | AM31: =IF(ISERROR(AG31/($I$4-AL31)),"-",AG31/($I$4-AL31)) -> -
C32: 22 | AG32: =COUNTIF(D32:AF32,1) -> 0 | AH32: =COUNTIF(D32:AF32,2) -> 0 | AI32: =COUNTIF(D32:AF32,3) -> 0 | AJ32: =COUNTIF(D32:AF32,9) -> 0 | AK32: =COUNTIF(D32:AF32,0) -> 0 | AL32: =COUNTIF(D32:AF32,"ABS") -> 0 | AM32: =IF(ISERROR(AG32/($I$4-AL32)),"-",AG32/($I$4-AL32)) -> -
B33: 9 | C33: 23 | AG33: =COUNTIF(D33:AF33,1) -> 0 | AH33: =COUNTIF(D33:AF33,2) -> 0 | AI33: =COUNTIF(D33:AF33,3) -> 0 | AJ33: =COUNTIF(D33:AF33,9) -> 0 | AK33: =COUNTIF(D33:AF33,0) -> 0 | AL33: =COUNTIF(D33:AF33,"ABS") -> 0 | AM33: =IF(ISERROR(AG33/($I$4-AL33)),"-",AG33/($I$4-AL33)) -> -
C34: 24 | AG34: =COUNTIF(D34:AF34,1) -> 0 | AH34: =COUNTIF(D34:AF34,2) -> 0 | AI34: =COUNTIF(D34:AF34,3) -> 0 | AJ34: =COUNTIF(D34:AF34,9) -> 0 | AK34: =COUNTIF(D34:AF34,0) -> 0 | AL34: =COUNTIF(D34:AF34,"ABS") -> 0 | AM34: =IF(ISERROR(AG34/($I$4-AL34)),"-",AG34/($I$4-AL34)) -> -
C35: 25 | AG35: =COUNTIF(D35:AF35,1) -> 0 | AH35: =COUNTIF(D35:AF35,2) -> 0 | AI35: =COUNTIF(D35:AF35,3) -> 0 | AJ35: =COUNTIF(D35:AF35,9) -> 0 | AK35: =COUNTIF(D35:AF35,0) -> 0 | AL35: =COUNTIF(D35:AF35,"ABS") -> 0 | AM35: =IF(ISERROR(AG35/($I$4-AL35)),"-",AG35/($I$4-AL35)) -> -
C36: 26 | AG36: =COUNTIF(D36:AF36,1) -> 0 | AH36: =COUNTIF(D36:AF36,2) -> 0 | AI36: =COUNTIF(D36:AF36,3) -> 0 | AJ36: =COUNTIF(D36:AF36,9) -> 0 | AK36: =COUNTIF(D36:AF36,0) -> 0 | AL36: =COUNTIF(D36:AF36,"ABS") -> 0 | AM36: =IF(ISERROR(AG36/($I$4-AL36)),"-",AG36/($I$4-AL36)) -> -
A37: résultats | C37: 1 | D37: =COUNTIF(D11:D36,1) -> 0 | E37: =COUNTIF(E11:E36,1) -> 0 | F37: =COUNTIF(F11:F36,1) -> 0 | G37: =COUNTIF(G11:G36,1) -> 0 | H37: =COUNTIF(H11:H36,1) -> 0 | I37: =COUNTIF(I11:I36,1) -> 0 | J37: =COUNTIF(J11:J36,1) -> 0 | K37: =COUNTIF(K11:K36,1) -> 0 | ... AF37: =COUNTIF(AF11:AF36,1) -> 0
C38: 2 | D38: =COUNTIF(D11:D36,2) -> 0 | E38: =COUNTIF(E11:E36,2) -> 0 | F38: =COUNTIF(F11:F36,2) -> 0 | G38: =COUNTIF(G11:G36,2) -> 0 | H38: =COUNTIF(H11:H36,2) -> 0 | I38: =COUNTIF(I11:I36,2) -> 0 | J38: =COUNTIF(J11:J36,2) -> 0 | K38: =COUNTIF(K11:K36,2) -> 0 | ... AF38: =COUNTIF(AF11:AF36,2) -> 0 | AO38: 0
C39: 3 | D39: =COUNTIF(D11:D36,3) -> 0 | E39: =COUNTIF(E11:E36,3) -> 0 | F39: =COUNTIF(F11:F36,3) -> 0 | G39: =COUNTIF(G11:G36,3) -> 0 | H39: =COUNTIF(H11:H36,3) -> 0 | I39: =COUNTIF(I11:I36,3) -> 0 | J39: =COUNTIF(J11:J36,3) -> 0 | K39: =COUNTIF(K11:K36,3) -> 0 | ... AF39: =COUNTIF(AF11:AF36,3) -> 0 | AO39: 1
C40: 9 | D40: =COUNTIF(D11:D36,9) -> 0 | E40: =COUNTIF(E11:E36,9) -> 0 | F40: =COUNTIF(F11:F36,9) -> 0 | G40: =COUNTIF(G11:G36,9) -> 0 | H40: =COUNTIF(H11:H36,9) -> 0 | I40: =COUNTIF(I11:I36,9) -> 0 | J40: =COUNTIF(J11:J36,9) -> 0 | K40: =COUNTIF(K11:K36,9) -> 0 | ... AF40: =COUNTIF(AF11:AF36,9) -> 0 | AO40: 2
C41: 0 | D41: =COUNTIF(D11:D36,0) -> 0 | E41: =COUNTIF(E11:E36,0) -> 0 | F41: =COUNTIF(F11:F36,0) -> 0 | G41: =COUNTIF(G11:G36,0) -> 0 | H41: =COUNTIF(H11:H36,0) -> 0 | I41: =COUNTIF(I11:I36,0) -> 0 | J41: =COUNTIF(J11:J36,0) -> 0 | K41: =COUNTIF(K11:K36,0) -> 0 | ... AF41: =COUNTIF(AF11:AF36,0) -> 0 | AO41: 3
C42: ABS | D42: =COUNTIF(D11:D36,"ABS") -> 0 | E42: =COUNTIF(E11:E36,"ABS") -> 0 | F42: =COUNTIF(F11:F36,"ABS") -> 0 | G42: =COUNTIF(G11:G36,"ABS") -> 0 | H42: =COUNTIF(H11:H36,"ABS") -> 0 | I42: =COUNTIF(I11:I36,"ABS") -> 0 | J42: =COUNTIF(J11:J36,"ABS") -> 0 | K42: =COUNTIF(K11:K36,"ABS") -> 0 | ... AF42: =COUNTIF(AF11:AF36,"ABS") -> 0 | AO42: 9
C43: réussite | D43: =D37/(26-D42) -> 0 | E43: =E37/(26-E42) -> 0 | F43: =F37/(26-F42) -> 0 | G43: =G37/(26-G42) -> 0 | H43: =H37/(26-H42) -> 0 | I43: =I37/(26-I42) -> 0 | J43: =J37/(26-J42) -> 0 | K43: =K37/(26-K42) -> 0 | ... AF43: =AF37/(26-AF42) -> 0 | AO43: ABS
...

Sheet Bilan Elève
B1: Bilans individuels
B3: Choisir l'élève dans la liste ci-dessous en cliquant sur la petite flèche qui s'affiche au bout de la ligne. | I3: 1 | J3: 2 | K3: 3 | L3: 4 | M3: 5 | N3: 6 | O3: 7 | P3: 8 | Q3: 9 | R3: 10 | S3: 11 | T3: 12 | U3: 13 | V3: 14 | W3: 15 | X3: 16 | Y3: 17 | Z3: 18 | AA3: 19 | AB3: 20 | AC3: 21 | AD3: 22 | AE3: 23 | AF3: 24 | AG3: 25 | AH3: 26 | AI3: 27 | AJ3: 28 | AK3: 29
E4: Tâches | G4: Max | I4: =Classe!$E10 | J4: =Classe!$E11 | K4: =Classe!$E12 | L4: =Classe!$E13 | M4: =Classe!$E14 | N4: =Classe!$E15 | O4: =Classe!$E16 | P4: =Classe!$E17 | Q4: =Classe!$E18 | R4: =Classe!$E19 | S4: =Classe!$E20 | T4: =Classe!$E21 | U4: =Classe!$E22 | V4: =Classe!$E23 | W4: =Classe!$E24 | X4: =Classe!$E25 | Y4: =Classe!$E26 | Z4: =Classe!$E27 | AA4: =Classe!$E28 | AB4: =Classe!$E29 | AC4: =Classe!$E30 | AD4: =Classe!$E31 | AE4: =Classe!$E32 | AF4: =Classe!$E33 | AG4: =Classe!$E34 | AH4: =Classe!$E35 | AI4: =Classe!$E36 | AJ4: =Classe!$E37 | AK4: =Classe!$E38
E5: concepts et du lexique propres à l’écrit | F5: =HLOOKUP($B$4,$I$4:$AK$27,ROW()-3,0) -> #N/A | G5: 9 | H5: =E5 -> concepts et du lexique propres à l’écrit | I5: =(COUNTIF(Saisie!D49:D57,"=1")+COUNTIF(Saisie!D49:D57,"=2"))/$G5 -> 0 | J5: =(COUNTIF(Saisie!E49:E57,"=1")+COUNTIF(Saisie!E49:E57,"=2"))/$G5 -> 0 | K5: =(COUNTIF(Saisie!F49:F57,"=1")+COUNTIF(Saisie!F49:F57,"=2"))/$G5 -> 0 | L5: =(COUNTIF(Saisie!G49:G57,"=1")+COUNTIF(Saisie!G49:G57,"=2"))/$G5 -> 0 | M5: =(COUNTIF(Saisie!H49:H57,"=1")+COUNTIF(Saisie!H49:H57,"=2"))/$G5 -> 0 | N5: =(COUNTIF(Saisie!I49:I57,"=1")+COUNTIF(Saisie!I49:I57,"=2"))/$G5 -> 0 | O5: =(COUNTIF(Saisie!J49:J57,"=1")+COUNTIF(Saisie!J49:J57,"=2"))/$G5 -> 0 | P5: =(COUNTIF(Saisie!K49:K57,"=1")+COUNTIF(Saisie!K49:K57,"=2"))/$G5 -> 0 | ... AK5: =(COUNTIF(Saisie!AF49:AF57,"=1")+COUNTIF(Saisie!AF49:AF57,"=2"))/$G5 -> 0
E6: écrire les lettres dictées | F6: =HLOOKUP($B$4,$I$4:$AK$27,ROW()-3,0) -> #N/A | G6: 1 | H6: =E6 -> écrire les lettres dictées | I6: =(COUNTIF(Saisie!D58,"=1")+COUNTIF(Saisie!D58,"=2"))/$G6 -> 0 | J6: =(COUNTIF(Saisie!E58,"=1")+COUNTIF(Saisie!E58,"=2"))/$G6 -> 0 | K6: =(COUNTIF(Saisie!F58,"=1")+COUNTIF(Saisie!F58,"=2"))/$G6 -> 0 | L6: =(COUNTIF(Saisie!G58,"=1")+COUNTIF(Saisie!G58,"=2"))/$G6 -> 0 | M6: =(COUNTIF(Saisie!H58,"=1")+COUNTIF(Saisie!H58,"=2"))/$G6 -> 0 | N6: =(COUNTIF(Saisie!I58,"=1")+COUNTIF(Saisie!I58,"=2"))/$G6 -> 0 | O6: =(COUNTIF(Saisie!J58,"=1")+COUNTIF(Saisie!J58,"=2"))/$G6 -> 0 | P6: =(COUNTIF(Saisie!K58,"=1")+COUNTIF(Saisie!K58,"=2"))/$G6 -> 0 | ... AK6: =(COUNTIF(Saisie!AF58,"=1")+COUNTIF(Saisie!AF58,"=2"))/$G6 -> 0
E7: reconnaître les lettres lues par l’enseignant | F7: =HLOOKUP($B$4,$I$4:$AK$27,ROW()-3,0) -> #N/A | G7: 1 | H7: =E7 -> reconnaître les lettres lues par l’enseignant | I7: =(COUNTIF(Saisie!D59,"=1")+COUNTIF(Saisie!D59,"=2"))/$G7 -> 0 | J7: =(COUNTIF(Saisie!E59,"=1")+COUNTIF(Saisie!E59,"=2"))/$G7 -> 0 | K7: =(COUNTIF(Saisie!F59,"=1")+COUNTIF(Saisie!F59,"=2"))/$G7 -> 0 | L7: =(COUNTIF(Saisie!G59,"=1")+COUNTIF(Saisie!G59,"=2"))/$G7 -> 0 | M7: =(COUNTIF(Saisie!H59,"=1")+COUNTIF(Saisie!H59,"=2"))/$G7 -> 0 | N7: =(COUNTIF(Saisie!I59,"=1")+COUNTIF(Saisie!I59,"=2"))/$G7 -> 0 | O7: =(COUNTIF(Saisie!J59,"=1")+COUNTIF(Saisie!J59,"=2"))/$G7 -> 0 | P7: =(COUNTIF(Saisie!K59,"=1")+COUNTIF(Saisie!K59,"=2"))/$G7 -> 0 | ... AK7: =(COUNTIF(Saisie!AF59,"=1")+COUNTIF(Saisie!AF59,"=2"))/$G7 -> 0
E8: distinguer les syllabes d’un mot prononcé | F8: =HLOOKUP($B$4,$I$4:$AK$27,ROW()-3,0) -> #N/A | G8: 1 | H8: =E8 -> distinguer les syllabes d’un mot prononcé | I8: =(COUNTIF(Saisie!D60,"=1")+COUNTIF(Saisie!D60,"=2"))/$G8 -> 0 | J8: =(COUNTIF(Saisie!E60,"=1")+COUNTIF(Saisie!E60,"=2"))/$G8 -> 0 | K8: =(COUNTIF(Saisie!F60,"=1")+COUNTIF(Saisie!F60,"=2"))/$G8 -> 0 | L8: =(COUNTIF(Saisie!G60,"=1")+COUNTIF(Saisie!G60,"=2"))/$G8 -> 0 | M8: =(COUNTIF(Saisie!H60,"=1")+COUNTIF(Saisie!H60,"=2"))/$G8 -> 0 | N8: =(COUNTIF(Saisie!I60,"=1")+COUNTIF(Saisie!I60,"=2"))/$G8 -> 0 | O8: =(COUNTIF(Saisie!J60,"=1")+COUNTIF(Saisie!J60,"=2"))/$G8 -> 0 | P8: =(COUNTIF(Saisie!K60,"=1")+COUNTIF(Saisie!K60,"=2"))/$G8 -> 0 | ... AK8: =(COUNTIF(Saisie!AF60,"=1")+COUNTIF(Saisie!AF60,"=2"))/$G8 -> 0
E9: segmenter un mot, repérer et localiser la place de la syllabe prononcée | F9: =HLOOKUP($B$4,$I$4:$AK$27,ROW()-3,0) -> #N/A | G9: 1 | H9: =E9 -> segmenter un mot, repérer et localiser la place de la syllabe prononcée | I9: =(COUNTIF(Saisie!D61,"=1")+COUNTIF(Saisie!D61,"=2"))/$G9 -> 0 | J9: =(COUNTIF(Saisie!E61,"=1")+COUNTIF(Saisie!E61,"=2"))/$G9 -> 0 | K9: =(COUNTIF(Saisie!F61,"=1")+COUNTIF(Saisie!F61,"=2"))/$G9 -> 0 | L9: =(COUNTIF(Saisie!G61,"=1")+COUNTIF(Saisie!G61,"=2"))/$G9 -> 0 | M9: =(COUNTIF(Saisie!H61,"=1")+COUNTIF(Saisie!H61,"=2"))/$G9 -> 0 | N9: =(COUNTIF(Saisie!I61,"=1")+COUNTIF(Saisie!I61,"=2"))/$G9 -> 0 | O9: =(COUNTIF(Saisie!J61,"=1")+COUNTIF(Saisie!J61,"=2"))/$G9 -> 0 | P9: =(COUNTIF(Saisie!K61,"=1")+COUNTIF(Saisie!K61,"=2"))/$G9 -> 0 | ... AK9: =(COUNTIF(Saisie!AF61,"=1")+COUNTIF(Saisie!AF61,"=2"))/$G9 -> 0
E10: identifier la syllabe commune à plusieurs mots | F10: =HLOOKUP($B$4,$I$4:$AK$27,ROW()-3,0) -> #N/A | G10: 4 | H10: =E10 -> identifier la syllabe commune à plusieurs mots | I10: =(COUNTIF(Saisie!D62:D65,"=1")+COUNTIF(Saisie!D62:D65,"=2"))/$G10 -> 0 | J10: =(COUNTIF(Saisie!E62:E65,"=1")+COUNTIF(Saisie!E62:E65,"=2"))/$G10 -> 0 | K10: =(COUNTIF(Saisie!F62:F65,"=1")+COUNTIF(Saisie!F62:F65,"=2"))/$G10 -> 0 | L10: =(COUNTIF(Saisie!G62:G65,"=1")+COUNTIF(Saisie!G62:G65,"=2"))/$G10 -> 0 | M10: =(COUNTIF(Saisie!H62:H65,"=1")+COUNTIF(Saisie!H62:H65,"=2"))/$G10 -> 0 | N10: =(COUNTIF(Saisie!I62:I65,"=1")+COUNTIF(Saisie!I62:I65,"=2"))/$G10 -> 0 | O10: =(COUNTIF(Saisie!J62:J65,"=1")+COUNTIF(Saisie!J62:J65,"=2"))/$G10 -> 0 | P10: =(COUNTIF(Saisie!K62:K65,"=1")+COUNTIF(Saisie!K62:K65,"=2"))/$G10 -> 0 | ... AK10: =(COUNTIF(Saisie!AF62:AF65,"=1")+COUNTIF(Saisie!AF62:AF65,"=2"))/$G10 -> 0
E11: repérer des éléments communs dans des mots | F11: =HLOOKUP($B$4,$I$4:$AK$27,ROW()-3,0) -> #N/A | G11: 3 | H11: =E11 -> repérer des éléments communs dans des mots | I11: =(COUNTIF(Saisie!D66:D68,"=1")+COUNTIF(Saisie!D66:D68,"=2"))/$G11 -> 0 | J11: =(COUNTIF(Saisie!E66:E68,"=1")+COUNTIF(Saisie!E66:E68,"=2"))/$G11 -> 0 | K11: =(COUNTIF(Saisie!F66:F68,"=1")+COUNTIF(Saisie!F66:F68,"=2"))/$G11 -> 0 | L11: =(COUNTIF(Saisie!G66:G68,"=1")+COUNTIF(Saisie!G66:G68,"=2"))/$G11 -> 0 | M11: =(COUNTIF(Saisie!H66:H68,"=1")+COUNTIF(Saisie!H66:H68,"=2"))/$G11 -> 0 | N11: =(COUNTIF(Saisie!I66:I68,"=1")+COUNTIF(Saisie!I66:I68,"=2"))/$G11 -> 0 | O11: =(COUNTIF(Saisie!J66:J68,"=1")+COUNTIF(Saisie!J66:J68,"=2"))/$G11 -> 0 | P11: =(COUNTIF(Saisie!K66:K68,"=1")+COUNTIF(Saisie!K66:K68,"=2"))/$G11 -> 0 | ... AK11: =(COUNTIF(Saisie!AF66:AF68,"=1")+COUNTIF(Saisie!AF66:AF68,"=2"))/$G11 -> 0
E12: lire des mots fréquemment rencontrés | F12: =HLOOKUP($B$4,$I$4:$AK$27,ROW()-3,0) -> #N/A | G12: 4 | H12: =E12 -> lire des mots fréquemment rencontrés | I12: =(COUNTIF(Saisie!D69:D72,"=1")+COUNTIF(Saisie!D69:D72,"=2"))/$G12 -> 0 | J12: =(COUNTIF(Saisie!E69:E72,"=1")+COUNTIF(Saisie!E69:E72,"=2"))/$G12 -> 0 | K12: =(COUNTIF(Saisie!F69:F72,"=1")+COUNTIF(Saisie!F69:F72,"=2"))/$G12 -> 0 | L12: =(COUNTIF(Saisie!G69:G72,"=1")+COUNTIF(Saisie!G69:G72,"=2"))/$G12 -> 0 | M12: =(COUNTIF(Saisie!H69:H72,"=1")+COUNTIF(Saisie!H69:H72,"=2"))/$G12 -> 0 | N12: =(COUNTIF(Saisie!I69:I72,"=1")+COUNTIF(Saisie!I69:I72,"=2"))/$G12 -> 0 | O12: =(COUNTIF(Saisie!J69:J72,"=1")+COUNTIF(Saisie!J69:J72,"=2"))/$G12 -> 0 | P12: =(COUNTIF(Saisie!K69:K72,"=1")+COUNTIF(Saisie!K69:K72,"=2"))/$G12 -> 0 | ... AK12: =(COUNTIF(Saisie!AF69:AF72,"=1")+COUNTIF(Saisie!AF69:AF72,"=2"))/$G12 -> 0
E13: dégager le thème d’un texte entendu | F13: =HLOOKUP($B$4,$I$4:$AK$27,ROW()-3,0) -> #N/A | G13: 1 | H13: =E13 -> dégager le thème d’un texte entendu | I13: =(COUNTIF(Saisie!D73,"=1")+COUNTIF(Saisie!D73,"=2"))/$G13 -> 0 | J13: =(COUNTIF(Saisie!E73,"=1")+COUNTIF(Saisie!E73,"=2"))/$G13 -> 0 | K13: =(COUNTIF(Saisie!F73,"=1")+COUNTIF(Saisie!F73,"=2"))/$G13 -> 0 | L13: =(COUNTIF(Saisie!G73,"=1")+COUNTIF(Saisie!G73,"=2"))/$G13 -> 0 | M13: =(COUNTIF(Saisie!H73,"=1")+COUNTIF(Saisie!H73,"=2"))/$G13 -> 0 | N13: =(COUNTIF(Saisie!I73,"=1")+COUNTIF(Saisie!I73,"=2"))/$G13 -> 0 | O13: =(COUNTIF(Saisie!J73,"=1")+COUNTIF(Saisie!J73,"=2"))/$G13 -> 0 | P13: =(COUNTIF(Saisie!K73,"=1")+COUNTIF(Saisie!K73,"=2"))/$G13 -> 0 | ... AK13: =(COUNTIF(Saisie!AF73,"=1")+COUNTIF(Saisie!AF73,"=2"))/$G13 -> 0
E14: comprendre un message oral et répondre de façon pertinente | F14: =HLOOKUP($B$4,$I$4:$AK$27,ROW()-3,0) -> #N/A | G14: 1 | H14: =E14 -> comprendre un message oral et répondre de façon pertinente | I14: =(COUNTIF(Saisie!D74,"=1")+COUNTIF(Saisie!D74,"=2"))/$G14 -> 0 | J14: =(COUNTIF(Saisie!E74,"=1")+COUNTIF(Saisie!E74,"=2"))/$G14 -> 0 | K14: =(COUNTIF(Saisie!F74,"=1")+COUNTIF(Saisie!F74,"=2"))/$G14 -> 0 | L14: =(COUNTIF(Saisie!G74,"=1")+COUNTIF(Saisie!G74,"=2"))/$G14 -> 0 | M14: =(COUNTIF(Saisie!H74,"=1")+COUNTIF(Saisie!H74,"=2"))/$G14 -> 0 | N14: =(COUNTIF(Saisie!I74,"=1")+COUNTIF(Saisie!I74,"=2"))/$G14 -> 0 | O14: =(COUNTIF(Saisie!J74,"=1")+COUNTIF(Saisie!J74,"=2"))/$G14 -> 0 | P14: =(COUNTIF(Saisie!K74,"=1")+COUNTIF(Saisie!K74,"=2"))/$G14 -> 0 | ... AK14: =(COUNTIF(Saisie!AF74,"=1")+COUNTIF(Saisie!AF74,"=2"))/$G14 -> 0
E15: optimiser sa prise d'informations | F15: =HLOOKUP($B$4,$I$4:$AK$27,ROW()-3,0) -> #N/A | G15: 4 | H15: =E15 -> optimiser sa prise d'informations | I15: =(COUNTIF(Saisie!D75:D78,"=1")+COUNTIF(Saisie!D75:D78,"=2"))/$G15 -> 0 | J15: =(COUNTIF(Saisie!E75:E78,"=1")+COUNTIF(Saisie!E75:E78,"=2"))/$G15 -> 0 | K15: =(COUNTIF(Saisie!F75:F78,"=1")+COUNTIF(Saisie!F75:F78,"=2"))/$G15 -> 0 | L15: =(COUNTIF(Saisie!G75:G78,"=1")+COUNTIF(Saisie!G75:G78,"=2"))/$G15 -> 0 | M15: =(COUNTIF(Saisie!H75:H78,"=1")+COUNTIF(Saisie!H75:H78,"=2"))/$G15 -> 0 | N15: =(COUNTIF(Saisie!I75:I78,"=1")+COUNTIF(Saisie!I75:I78,"=2"))/$G15 -> 0 | O15: =(COUNTIF(Saisie!J75:J78,"=1")+COUNTIF(Saisie!J75:J78,"=2"))/$G15 -> 0 | P15: =(COUNTIF(Saisie!K75:K78,"=1")+COUNTIF(Saisie!K75:K78,"=2"))/$G15 -> 0 | ... AK15: =(COUNTIF(Saisie!AF75:AF78,"=1")+COUNTIF(Saisie!AF75:AF78,"=2"))/$G15 -> 0
E16: écrire des mots | F16: =HLOOKUP($B$4,$I$4:$AK$27,ROW()-3,0) -> #N/A | G16: 4 | H16: =E16 -> écrire des mots | I16: =(COUNTIF(Saisie!D79:D82,"=1")+COUNTIF(Saisie!D79:D82,"=2"))/$G16 -> 0 | J16: =(COUNTIF(Saisie!E79:E82,"=1")+COUNTIF(Saisie!E79:E82,"=2"))/$G16 -> 0 | K16: =(COUNTIF(Saisie!F79:F82,"=1")+COUNTIF(Saisie!F79:F82,"=2"))/$G16 -> 0 | L16: =(COUNTIF(Saisie!G79:G82,"=1")+COUNTIF(Saisie!G79:G82,"=2"))/$G16 -> 0 | M16: =(COUNTIF(Saisie!H79:H82,"=1")+COUNTIF(Saisie!H79:H82,"=2"))/$G16 -> 0 | N16: =(COUNTIF(Saisie!I79:I82,"=1")+COUNTIF(Saisie!I79:I82,"=2"))/$G16 -> 0 | O16: =(COUNTIF(Saisie!J79:J82,"=1")+COUNTIF(Saisie!J79:J82,"=2"))/$G16 -> 0 | P16: =(COUNTIF(Saisie!K79:K82,"=1")+COUNTIF(Saisie!K79:K82,"=2"))/$G16 -> 0 | ... AK16: =(COUNTIF(Saisie!AF79:AF82,"=1")+COUNTIF(Saisie!AF79:AF82,"=2"))/$G16 -> 0
E17: compléter des ensembles | F17: =HLOOKUP($B$4,$I$4:$AK$27,ROW()-3,0) -> #N/A | G17: 4 | H17: =E17 -> compléter des ensembles | I17: =(COUNTIF(Saisie!D83:D86,"=1")+COUNTIF(Saisie!D83:D86,"=2"))/$G17 -> 0 | J17: =(COUNTIF(Saisie!E83:E86,"=1")+COUNTIF(Saisie!E83:E86,"=2"))/$G17 -> 0 | K17: =(COUNTIF(Saisie!F83:F86,"=1")+COUNTIF(Saisie!F83:F86,"=2"))/$G17 -> 0 | L17: =(COUNTIF(Saisie!G83:G86,"=1")+COUNTIF(Saisie!G83:G86,"=2"))/$G17 -> 0 | M17: =(COUNTIF(Saisie!H83:H86,"=1")+COUNTIF(Saisie!H83:H86,"=2"))/$G17 -> 0 | N17: =(COUNTIF(Saisie!I83:I86,"=1")+COUNTIF(Saisie!I83:I86,"=2"))/$G17 -> 0 | O17: =(COUNTIF(Saisie!J83:J86,"=1")+COUNTIF(Saisie!J83:J86,"=2"))/$G17 -> 0 | P17: =(COUNTIF(Saisie!K83:K86,"=1")+COUNTIF(Saisie!K83:K86,"=2"))/$G17 -> 0 | ... AK17: =(COUNTIF(Saisie!AF83:AF86,"=1")+COUNTIF(Saisie!AF83:AF86,"=2"))/$G17 -> 0
E18: nommer des éléments et expliciter ses stratégies | F18: =HLOOKUP($B$4,$I$4:$AK$27,ROW()-3,0) -> #N/A | G18: 3 | H18: =E18 -> nommer des éléments et expliciter ses stratégies | I18: =(COUNTIF(Saisie!D87:D89,"=1")+COUNTIF(Saisie!D87:D89,"=2"))/$G18 -> 0 | J18: =(COUNTIF(Saisie!E87:E89,"=1")+COUNTIF(Saisie!E87:E89,"=2"))/$G18 -> 0 | K18: =(COUNTIF(Saisie!F87:F89,"=1")+COUNTIF(Saisie!F87:F89,"=2"))/$G18 -> 0 | L18: =(COUNTIF(Saisie!G87:G89,"=1")+COUNTIF(Saisie!G87:G89,"=2"))/$G18 -> 0 | M18: =(COUNTIF(Saisie!H87:H89,"=1")+COUNTIF(Saisie!H87:H89,"=2"))/$G18 -> 0 | N18: =(COUNTIF(Saisie!I87:I89,"=1")+COUNTIF(Saisie!I87:I89,"=2"))/$G18 -> 0 | O18: =(COUNTIF(Saisie!J87:J89,"=1")+COUNTIF(Saisie!J87:J89,"=2"))/$G18 -> 0 | P18: =(COUNTIF(Saisie!K87:K89,"=1")+COUNTIF(Saisie!K87:K89,"=2"))/$G18 -> 0 | ... AK18: =(COUNTIF(Saisie!AF87:AF89,"=1")+COUNTIF(Saisie!AF87:AF89,"=2"))/$G18 -> 0
E19: Associer un nombre donné à son écriture chiffrée | F19: =HLOOKUP($B$4,$I$4:$AK$27,ROW()-3,0) -> #N/A | G19: 2 | H19: =E19 -> Associer un nombre donné à son écriture chiffrée | I19: =(COUNTIF(Saisie!D11:D12,"=1")+COUNTIF(Saisie!D11:D12,"=2"))/$G19 -> 0 | J19: =(COUNTIF(Saisie!E11:E12,"=1")+COUNTIF(Saisie!E11:E12,"=2"))/$G19 -> 0 | K19: =(COUNTIF(Saisie!F11:F12,"=1")+COUNTIF(Saisie!F11:F12,"=2"))/$G19 -> 0 | L19: =(COUNTIF(Saisie!G11:G12,"=1")+COUNTIF(Saisie!G11:G12,"=2"))/$G19 -> 0 | M19: =(COUNTIF(Saisie!H11:H12,"=1")+COUNTIF(Saisie!H11:H12,"=2"))/$G19 -> 0 | N19: =(COUNTIF(Saisie!I11:I12,"=1")+COUNTIF(Saisie!I11:I12,"=2"))/$G19 -> 0 | O19: =(COUNTIF(Saisie!J11:J12,"=1")+COUNTIF(Saisie!J11:J12,"=2"))/$G19 -> 0 | P19: =(COUNTIF(Saisie!K11:K12,"=1")+COUNTIF(Saisie!K11:K12,"=2"))/$G19 -> 0 | ... AK19: =(COUNTIF(Saisie!AF11:AF12,"=1")+COUNTIF(Saisie!AF11:AF12,"=2"))/$G19 -> 0
E20: Comparer des quantités (ex 2) | F20: =HLOOKUP($B$4,$I$4:$AK$27,ROW()-3,0) -> #N/A | G20: 1 | H20: =E20 -> Comparer des quantités (ex 2) | I20: =(COUNTIF(Saisie!D13,"=1")+COUNTIF(Saisie!D13,"=2"))/$G20 -> 0 | J20: =(COUNTIF(Saisie!E13,"=1")+COUNTIF(Saisie!E13,"=2"))/$G20 -> 0 | K20: =(COUNTIF(Saisie!F13,"=1")+COUNTIF(Saisie!F13,"=2"))/$G20 -> 0 | L20: =(COUNTIF(Saisie!G13,"=1")+COUNTIF(Saisie!G13,"=2"))/$G20 -> 0 | M20: =(COUNTIF(Saisie!H13,"=1")+COUNTIF(Saisie!H13,"=2"))/$G20 -> 0 | N20: =(COUNTIF(Saisie!I13,"=1")+COUNTIF(Saisie!I13,"=2"))/$G20 -> 0 | O20: =(COUNTIF(Saisie!J13,"=1")+COUNTIF(Saisie!J13,"=2"))/$G20 -> 0 | P20: =(COUNTIF(Saisie!K13,"=1")+COUNTIF(Saisie!K13,"=2"))/$G20 -> 0 | ... AK20: =(COUNTIF(Saisie!AF13,"=1")+COUNTIF(Saisie!AF13,"=2"))/$G20 -> 0
E21: Comparer des quantités (ex 3) | F21: =HLOOKUP($B$4,$I$4:$AK$27,ROW()-3,0) -> #N/A | G21: 3 | H21: =E21 -> Comparer des quantités (ex 3) | I21: =(COUNTIF(Saisie!D14:D16,"=1")+COUNTIF(Saisie!D14:D16,"=2"))/$G21 -> 0 | J21: =(COUNTIF(Saisie!E14:E16,"=1")+COUNTIF(Saisie!E14:E16,"=2"))/$G21 -> 0 | K21: =(COUNTIF(Saisie!F14:F16,"=1")+COUNTIF(Saisie!F14:F16,"=2"))/$G21 -> 0 | L21: =(COUNTIF(Saisie!G14:G16,"=1")+COUNTIF(Saisie!G14:G16,"=2"))/$G21 -> 0 | M21: =(COUNTIF(Saisie!H14:H16,"=1")+COUNTIF(Saisie!H14:H16,"=2"))/$G21 -> 0 | N21: =(COUNTIF(Saisie!I14:I16,"=1")+COUNTIF(Saisie!I14:I16,"=2"))/$G21 -> 0 | O21: =(COUNTIF(Saisie!J14:J16,"=1")+COUNTIF(Saisie!J14:J16,"=2"))/$G21 -> 0 | P21: =(COUNTIF(Saisie!K14:K16,"=1")+COUNTIF(Saisie!K14:K16,"=2"))/$G21 -> 0 | ... AK21: =(COUNTIF(Saisie!AF14:AF16,"=1")+COUNTIF(Saisie!AF14:AF16,"=2"))/$G21 -> 0
E22: dénombrer les quantités en associant différentes représentations du nombre | F22: =HLOOKUP($B$4,$I$4:$AK$27,ROW()-3,0) -> #N/A | G22: 3 | H22: =E22 -> dénombrer les quantités en associant différentes représentations du nombre | I22: =(COUNTIF(Saisie!D17:D19,"=1")+COUNTIF(Saisie!D17:D19,"=2"))/$G22 -> 0 | J22: =(COUNTIF(Saisie!E17:E19,"=1")+COUNTIF(Saisie!E17:E19,"=2"))/$G22 -> 0 | K22: =(COUNTIF(Saisie!F17:F19,"=1")+COUNTIF(Saisie!F17:F19,"=2"))/$G22 -> 0 | L22: =(COUNTIF(Saisie!G17:G19,"=1")+COUNTIF(Saisie!G17:G19,"=2"))/$G22 -> 0 | M22: =(COUNTIF(Saisie!H17:H19,"=1")+COUNTIF(Saisie!H17:H19,"=2"))/$G22 -> 0 | N22: =(COUNTIF(Saisie!I17:I19,"=1")+COUNTIF(Saisie!I17:I19,"=2"))/$G22 -> 0 | O22: =(COUNTIF(Saisie!J17:J19,"=1")+COUNTIF(Saisie!J17:J19,"=2"))/$G22 -> 0 | P22: =(COUNTIF(Saisie!K17:K19,"=1")+COUNTIF(Saisie!K17:K19,"=2"))/$G22 -> 0 | ... AK22: =(COUNTIF(Saisie!AF17:AF19,"=1")+COUNTIF(Saisie!AF17:AF19,"=2"))/$G22 -> 0
E23: Dénombrer une quantité | F23: =HLOOKUP($B$4,$I$4:$AK$27,ROW()-3,0) -> #N/A | G23: 1 | H23: =E23 -> Dénombrer une quantité | I23: =(COUNTIF(Saisie!D20,"=1")+COUNTIF(Saisie!D20,"=2"))/$G23 -> 0 | J23: =(COUNTIF(Saisie!E20,"=1")+COUNTIF(Saisie!E20,"=2"))/$G23 -> 0 | K23: =(COUNTIF(Saisie!F20,"=1")+COUNTIF(Saisie!F20,"=2"))/$G23 -> 0 | L23: =(COUNTIF(Saisie!G20,"=1")+COUNTIF(Saisie!G20,"=2"))/$G23 -> 0 | M23: =(COUNTIF(Saisie!H20,"=1")+COUNTIF(Saisie!H20,"=2"))/$G23 -> 0 | N23: =(COUNTIF(Saisie!I20,"=1")+COUNTIF(Saisie!I20,"=2"))/$G23 -> 0 | O23: =(COUNTIF(Saisie!J20,"=1")+COUNTIF(Saisie!J20,"=2"))/$G23 -> 0 | P23: =(COUNTIF(Saisie!K20,"=1")+COUNTIF(Saisie!K20,"=2"))/$G23 -> 0 | ... AK23: =(COUNTIF(Saisie!AF20,"=1")+COUNTIF(Saisie!AF20,"=2"))/$G23 -> 0
E24: Identifier les informations spatiales | F24: =HLOOKUP($B$4,$I$4:$AK$27,ROW()-3,0) -> #N/A | G24: 5 | H24: =E24 -> Identifier les informations spatiales | I24: =(COUNTIF(Saisie!D21:D25,"=1")+COUNTIF(Saisie!D21:D25,"=2"))/$G24 -> 0 | J24: =(COUNTIF(Saisie!E21:E25,"=1")+COUNTIF(Saisie!E21:E25,"=2"))/$G24 -> 0 | K24: =(COUNTIF(Saisie!F21:F25,"=1")+COUNTIF(Saisie!F21:F25,"=2"))/$G24 -> 0 | L24: =(COUNTIF(Saisie!G21:G25,"=1")+COUNTIF(Saisie!G21:G25,"=2"))/$G24 -> 0 | M24: =(COUNTIF(Saisie!H21:H25,"=1")+COUNTIF(Saisie!H21:H25,"=2"))/$G24 -> 0 | N24: =(COUNTIF(Saisie!I21:I25,"=1")+COUNTIF(Saisie!I21:I25,"=2"))/$G24 -> 0 | O24: =(COUNTIF(Saisie!J21:J25,"=1")+COUNTIF(Saisie!J21:J25,"=2"))/$G24 -> 0 | P24: =(COUNTIF(Saisie!K21:K25,"=1")+COUNTIF(Saisie!K21:K25,"=2"))/$G24 -> 0 | ... AK24: =(COUNTIF(Saisie!AF21:AF25,"=1")+COUNTIF(Saisie!AF21:AF25,"=2"))/$G24 -> 0
E25: Identifier le principe d’organisation d’un algorithme | F25: =HLOOKUP($B$4,$I$4:$AK$27,ROW()-3,0) -> #N/A | G25: 4 | H25: =E25 -> Identifier le principe d’organisation d’un algorithme | I25: =(COUNTIF(Saisie!D26:D29,"=1")+COUNTIF(Saisie!D26:D29,"=2"))/$G25 -> 0 | J25: =(COUNTIF(Saisie!E26:E29,"=1")+COUNTIF(Saisie!E26:E29,"=2"))/$G25 -> 0 | K25: =(COUNTIF(Saisie!F26:F29,"=1")+COUNTIF(Saisie!F26:F29,"=2"))/$G25 -> 0 | L25: =(COUNTIF(Saisie!G26:G29,"=1")+COUNTIF(Saisie!G26:G29,"=2"))/$G25 -> 0 | M25: =(COUNTIF(Saisie!H26:H29,"=1")+COUNTIF(Saisie!H26:H29,"=2"))/$G25 -> 0 | N25: =(COUNTIF(Saisie!I26:I29,"=1")+COUNTIF(Saisie!I26:I29,"=2"))/$G25 -> 0 | O25: =(COUNTIF(Saisie!J26:J29,"=1")+COUNTIF(Saisie!J26:J29,"=2"))/$G25 -> 0 | P25: =(COUNTIF(Saisie!K26:K29,"=1")+COUNTIF(Saisie!K26:K29,"=2"))/$G25 -> 0 | ... AK25: =(COUNTIF(Saisie!AF26:AF29,"=1")+COUNTIF(Saisie!AF26:AF29,"=2"))/$G25 -> 0
E26: Recomposer mentalement des petites quantités pour résoudre un problème | F26: =HLOOKUP($B$4,$I$4:$AK$27,ROW()-3,0) -> #N/A | G26: 3 | H26: =E26 -> Recomposer mentalement des petites quantités pour résoudre un problème | I26: =(COUNTIF(Saisie!D30:D32,"=1")+COUNTIF(Saisie!D30:D32,"=2"))/$G27 -> 0 | J26: =(COUNTIF(Saisie!E30:E32,"=1")+COUNTIF(Saisie!E30:E32,"=2"))/$G27 -> 0 | K26: =(COUNTIF(Saisie!F30:F32,"=1")+COUNTIF(Saisie!F30:F32,"=2"))/$G27 -> 0 | L26: =(COUNTIF(Saisie!G30:G32,"=1")+COUNTIF(Saisie!G30:G32,"=2"))/$G27 -> 0 | M26: =(COUNTIF(Saisie!H30:H32,"=1")+COUNTIF(Saisie!H30:H32,"=2"))/$G27 -> 0 | N26: =(COUNTIF(Saisie!I30:I32,"=1")+COUNTIF(Saisie!I30:I32,"=2"))/$G27 -> 0 | O26: =(COUNTIF(Saisie!J30:J32,"=1")+COUNTIF(Saisie!J30:J32,"=2"))/$G27 -> 0 | P26: =(COUNTIF(Saisie!K30:K32,"=1")+COUNTIF(Saisie!K30:K32,"=2"))/$G27 -> 0 | ... AK26: =(COUNTIF(Saisie!AF30:AF32,"=1")+COUNTIF(Saisie!AF30:AF32,"=2"))/$G27 -> 0
E27: Constituer une collection | F27: =HLOOKUP($B$4,$I$4:$AK$27,ROW()-3,0) -> #N/A | G27: 4 | H27: =E27 -> Constituer une collection | I27: =(COUNTIF(Saisie!D33:D36,"=1")+COUNTIF(Saisie!D33:D36,"=2"))/$G27 -> 0 | J27: =(COUNTIF(Saisie!E33:E36,"=1")+COUNTIF(Saisie!E33:E36,"=2"))/$G27 -> 0 | K27: =(COUNTIF(Saisie!F33:F36,"=1")+COUNTIF(Saisie!F33:F36,"=2"))/$G27 -> 0 | L27: =(COUNTIF(Saisie!G33:G36,"=1")+COUNTIF(Saisie!G33:G36,"=2"))/$G27 -> 0 | M27: =(COUNTIF(Saisie!H33:H36,"=1")+COUNTIF(Saisie!H33:H36,"=2"))/$G27 -> 0 | N27: =(COUNTIF(Saisie!I33:I36,"=1")+COUNTIF(Saisie!I33:I36,"=2"))/$G27 -> 0 | O27: =(COUNTIF(Saisie!J33:J36,"=1")+COUNTIF(Saisie!J33:J36,"=2"))/$G27 -> 0 | P27: =(COUNTIF(Saisie!K33:K36,"=1")+COUNTIF(Saisie!K33:K36,"=2"))/$G27 -> 0 | ... AK27: =(COUNTIF(Saisie!AF33:AF36,"=1")+COUNTIF(Saisie!AF33:AF36,"=2"))/$G27 -> 0

Sheet Bilan Classe
B1: Bilan de la classe
B3: Codes | C3: 1 et 2 | D3: =IF(C3="1 et 2",1,C3) -> 1 | E3: =IF(C3="1 et 2",2,"") -> 2
G4: ='Bilan Elève'!E5 -> concepts et du lexique propres à l’écrit | H4: =I4/J4 -> #DIV/0! | I4: =COUNTIF(Saisie!D49:AF57,'Bilan Classe'!$D$3)+IF($E$3<>"",COUNTIF(Saisie!D49:AF57,'Bilan Classe'!$E$3),0) -> 0 | J4: ='Bilan Elève'!G5*Classe!$E$39 -> 0
G5: ='Bilan Elève'!E6 -> écrire les lettres dictées | H5: =I5/J5 -> #DIV/0! | I5: =COUNTIF(Saisie!D58:AF58,'Bilan Classe'!$D$3)+IF($E$3<>"",COUNTIF(Saisie!D58:AF58,'Bilan Classe'!$E$3),0) -> 0 | J5: ='Bilan Elève'!G6*Classe!$E$39 -> 0
G6: ='Bilan Elève'!E7 -> reconnaître les lettres lues par l’enseignant | H6: =I6/J6 -> #DIV/0! | I6: =COUNTIF(Saisie!D59:AF59,'Bilan Classe'!$D$3)+IF($E$3<>"",COUNTIF(Saisie!D59:AF59,'Bilan Classe'!$E$3),0) -> 0 | J6: ='Bilan Elève'!G7*Classe!$E$39 -> 0
G7: ='Bilan Elève'!E8 -> distinguer les syllabes d’un mot prononcé | H7: =I7/J7 -> #DIV/0! | I7: =COUNTIF(Saisie!D60:AF60,'Bilan Classe'!$D$3)+IF($E$3<>"",COUNTIF(Saisie!D60:AF60,'Bilan Classe'!$E$3),0) -> 0 | J7: ='Bilan Elève'!G8*Classe!$E$39 -> 0
G8: ='Bilan Elève'!E9 -> segmenter un mot, repérer et localiser la place de la syllabe prononcée | H8: =I8/J8 -> #DIV/0! | I8: =COUNTIF(Saisie!D61:AF61,'Bilan Classe'!$D$3)+IF($E$3<>"",COUNTIF(Saisie!D61:AF61,'Bilan Classe'!$E$3),0) -> 0 | J8: ='Bilan Elève'!G9*Classe!$E$39 -> 0
G9: ='Bilan Elève'!E10 -> identifier la syllabe commune à plusieurs mots | H9: =I9/J9 -> #DIV/0! | I9: =COUNTIF(Saisie!D62:AF65,'Bilan Classe'!$D$3)+IF($E$3<>"",COUNTIF(Saisie!D62:AF65,'Bilan Classe'!$E$3),0) -> 0 | J9: ='Bilan Elève'!G10*Classe!$E$39 -> 0
G10: ='Bilan Elève'!E11 -> repérer des éléments communs dans des mots | H10: =I10/J10 -> #DIV/0! | I10: =COUNTIF(Saisie!D66:AF68,'Bilan Classe'!$D$3)+IF($E$3<>"",COUNTIF(Saisie!D66:AF68,'Bilan Classe'!$E$3),0) -> 0 | J10: ='Bilan Elève'!G11*Classe!$E$39 -> 0
G11: ='Bilan Elève'!E12 -> lire des mots fréquemment rencontrés | H11: =I11/J11 -> #DIV/0! | I11: =COUNTIF(Saisie!D69:AF72,'Bilan Classe'!$D$3)+IF($E$3<>"",COUNTIF(Saisie!D69:AF72,'Bilan Classe'!$E$3),0) -> 0 | J11: ='Bilan Elève'!G12*Classe!$E$39 -> 0
G12: ='Bilan Elève'!E13 -> dégager le thème d’un texte entendu | H12: =I12/J12 -> #DIV/0! | I12: =COUNTIF(Saisie!D73:AF73,'Bilan Classe'!$D$3)+IF($E$3<>"",COUNTIF(Saisie!D73:AF73,'Bilan Classe'!$E$3),0) -> 0 | J12: ='Bilan Elève'!G13*Classe!$E$39 -> 0
G13: ='Bilan Elève'!E14 -> comprendre un message oral et répondre de façon pertinente | H13: =I13/J13 -> #DIV/0! | I13: =COUNTIF(Saisie!D74:AF74,'Bilan Classe'!$D$3)+IF($E$3<>"",COUNTIF(Saisie!D74:AF74,'Bilan Classe'!$E$3),0) -> 0 | J13: ='Bilan Elève'!G14*Classe!$E$39 -> 0
G14: ='Bilan Elève'!E15 -> optimiser sa prise d'informations | H14: =I14/J14 -> #DIV/0! | I14: =COUNTIF(Saisie!D75:AF78,'Bilan Classe'!$D$3)+IF($E$3<>"",COUNTIF(Saisie!D75:AF78,'Bilan Classe'!$E$3),0) -> 0 | J14: ='Bilan Elève'!G15*Classe!$E$39 -> 0
G15: ='Bilan Elève'!E16 -> écrire des mots | H15: =I15/J15 -> #DIV/0! | I15: =COUNTIF(Saisie!D79:AF82,'Bilan Classe'!$D$3)+IF($E$3<>"",COUNTIF(Saisie!D79:AF82,'Bilan Classe'!$E$3),0) -> 0 | J15: ='Bilan Elève'!G16*Classe!$E$39 -> 0
G16: ='Bilan Elève'!E17 -> compléter des ensembles | H16: =I16/J16 -> #DIV/0! | I16: =COUNTIF(Saisie!D83:AF86,'Bilan Classe'!$D$3)+IF($E$3<>"",COUNTIF(Saisie!D83:AF86,'Bilan Classe'!$E$3),0) -> 0 | J16: ='Bilan Elève'!G17*Classe!$E$39 -> 0
G17: ='Bilan Elève'!E18 -> nommer des éléments et expliciter ses stratégies | H17: =I17/J17 -> #DIV/0! | I17: =COUNTIF(Saisie!D87:AF89,'Bilan Classe'!$D$3)+IF($E$3<>"",COUNTIF(Saisie!D87:AF89,'Bilan Classe'!$E$3),0) -> 0 | J17: ='Bilan Elève'!G18*Classe!$E$39 -> 0
G18: ='Bilan Elève'!E19 -> Associer un nombre donné à son écriture chiffrée | H18: =I18/J18 -> #DIV/0! | I18: =COUNTIF(Saisie!D11:AF12,'Bilan Classe'!$D$3)+IF($E$3<>"",COUNTIF(Saisie!D11:AF12,'Bilan Classe'!$E$3),0) -> 0 | J18: ='Bilan Elève'!G19*Classe!$E$39 -> 0
G19: ='Bilan Elève'!E20 -> Comparer des quantités (ex 2) | H19: =I19/J19 -> #DIV/0! | I19: =COUNTIF(Saisie!D13:AF13,'Bilan Classe'!$D$3)+IF($E$3<>"",COUNTIF(Saisie!D13:AF13,'Bilan Classe'!$E$3),0) -> 0 | J19: ='Bilan Elève'!G20*Classe!$E$39 -> 0
G20: ='Bilan Elève'!E21 -> Comparer des quantités (ex 3) | H20: =I20/J20 -> #DIV/0! | I20: =COUNTIF(Saisie!D14:AF16,'Bilan Classe'!$D$3)+IF($E$3<>"",COUNTIF(Saisie!D14:AF16,'Bilan Classe'!$E$3),0) -> 0 | J20: ='Bilan Elève'!G21*Classe!$E$39 -> 0
G21: ='Bilan Elève'!E22 -> dénombrer les quantités en associant différentes représentations du nombre | H21: =I21/J21 -> #DIV/0! | I21: =COUNTIF(Saisie!D17:AF19,'Bilan Classe'!$D$3)+IF($E$3<>"",COUNTIF(Saisie!D17:AF19,'Bilan Classe'!$E$3),0) -> 0 | J21: ='Bilan Elève'!G22*Classe!$E$39 -> 0
G22: ='Bilan Elève'!E23 -> Dénombrer une quantité | H22: =I22/J22 -> #DIV/0! | I22: =COUNTIF(Saisie!D20:AF20,'Bilan Classe'!$D$3)+IF($E$3<>"",COUNTIF(Saisie!D20:AF20,'Bilan Classe'!$E$3),0) -> 0 | J22: ='Bilan Elève'!G23*Classe!$E$39 -> 0
G23: ='Bilan Elève'!E24 -> Identifier les informations spatiales | H23: =I23/J23 -> #DIV/0! | I23: =COUNTIF(Saisie!D21:AF25,'Bilan Classe'!$D$3)+IF($E$3<>"",COUNTIF(Saisie!D21:AF25,'Bilan Classe'!$E$3),0) -> 0 | J23: ='Bilan Elève'!G24*Classe!$E$39 -> 0
G24: ='Bilan Elève'!E25 -> Identifier le principe d’organisation d’un algorithme | H24: =I24/J24 -> #DIV/0! | I24: =COUNTIF(Saisie!D26:AF29,'Bilan Classe'!$D$3)+IF($E$3<>"",COUNTIF(Saisie!D26:AF29,'Bilan Classe'!$E$3),0) -> 0 | J24: ='Bilan Elève'!G25*Classe!$E$39 -> 0
G25: ='Bilan Elève'!E26 -> Recomposer mentalement des petites quantités pour résoudre un problème | H25: =I25/J25 -> #DIV/0! | I25: =COUNTIF(Saisie!D30:AF32,'Bilan Classe'!$D$3)+IF($E$3<>"",COUNTIF(Saisie!D30:AF32,'Bilan Classe'!$E$3),0) -> 0 | J25: ='Bilan Elève'!G26*Classe!$E$39 -> 0
G26: ='Bilan Elève'!E27 -> Constituer une collection | H26: =I26/J26 -> #DIV/0! | I26: =COUNTIF(Saisie!D33:AF36,'Bilan Classe'!$D$3)+IF($E$3<>"",COUNTIF(Saisie!D33:AF36,'Bilan Classe'!$E$3),0) -> 0 | J26: ='Bilan Elève'!G27*Classe!$E$39 -> 0
B39: Français : consulter et classer les résultats par exercices pour la constitution de groupes de besoin
B40: concepts et du lexique propres à l’écrit
D42: Elèves | E42: Réussites
D43: =Classe!E10 | E43: =IF(D43<>" ",VLOOKUP($B$40,'Bilan Elève'!$H$4:$AK$27,ROW()-39,0),"")
D44: =Classe!E11 | E44: =IF(D44<>" ",VLOOKUP($B$40,'Bilan Elève'!$H$4:$AK$27,ROW()-39,0),"")
D45: =Classe!E12 | E45: =IF(D45<>" ",VLOOKUP($B$40,'Bilan Elève'!$H$4:$AK$27,ROW()-39,0),"")
D46: =Classe!E13 | E46: =IF(D46<>" ",VLOOKUP($B$40,'Bilan Elève'!$H$4:$AK$27,ROW()-39,0),"")
D47: =Classe!E14 | E47: =IF(D47<>" ",VLOOKUP($B$40,'Bilan Elève'!$H$4:$AK$27,ROW()-39,0),"")
D48: =Classe!E15 | E48: =IF(D48<>" ",VLOOKUP($B$40,'Bilan Elève'!$H$4:$AK$27,ROW()-39,0),"")
D49: =Classe!E16 | E49: =IF(D49<>" ",VLOOKUP($B$40,'Bilan Elève'!$H$4:$AK$27,ROW()-39,0),"")
D50: =Classe!E17 | E50: =IF(D50<>" ",VLOOKUP($B$40,'Bilan Elève'!$H$4:$AK$27,ROW()-39,0),"")
D51: =Classe!E18 | E51: =IF(D51<>" ",VLOOKUP($B$40,'Bilan Elève'!$H$4:$AK$27,ROW()-39,0),"")
D52: =Classe!E19 | E52: =IF(D52<>" ",VLOOKUP($B$40,'Bilan Elève'!$H$4:$AK$27,ROW()-39,0),"")
D53: =Classe!E20 | E53: =IF(D53<>" ",VLOOKUP($B$40,'Bilan Elève'!$H$4:$AK$27,ROW()-39,0),"")
D54: =Classe!E21 | E54: =IF(D54<>" ",VLOOKUP($B$40,'Bilan Elève'!$H$4:$AK$27,ROW()-39,0),"")
...

Sheet listes
A3: 1 | B3: 1 | C3: 1 | D3: 1 | E3: 1 | F3: 1 | G3: 1
A4: 9 | B4: 9 | C4: 2 | D4: 2 | E4: 3 | F4: 1 et 2 | G4: 0
A5: ABS | B5: 0 | C5: 9 | D5: 3 | E5: 9 | F5: 3 | G5: ABS
B6: ABS | C6: 0 | D6: 9 | E6: 0 | F6: 9
C7: ABS | D7: 0 | E7: ABS | F7: 0
D8: ABS
