Workbook

Sheet Accueil
B2: Analyse résultats LaboMep
B4: Version 1.0 mai 2015
B6: Mise en oeuvre
B8: Dans la première feuille de ce classeur (bilanSeance), importer les données du fichier csv :
B10: Cliquer en A1 dans cette feuille.
B11: Onglet "Données", "A partir du texte" (tout à gauche). Chercher le fichier .csv et l’assistant d’importation va se lancer.
B12: Si l’origine du fichier paraît exotique (caractères étranges dans l’aperçu), choisir Windows (ANSI) dans la liste. Cliquer sur "Suivant"
B13: Décocher "Tabulation" et cocher "Point-virgule", "Terminer"
B14: Si vous êtes bien dans la case A1, "Insertion de données" est proposée à cet endroit, "OK"
B15: Dans l’onglet "Données", cliquer sur "Actualiser tout"
B16: Tout le reste du tableau est calculé. Il n’y a rien à saisir. La feuille "Mise en forme" n’est pas à utiliser, seulement de Tableau et Graphique
B18: Tableau
... B38: Le tableau fourni ici est proposé avec des résultats. Pensez à les supprimer dans la feuille bilanSeance avant de l’utiliser.

Sheet bilanSeance
A1: Élève | B1: Classe | C1: Numéro ressource | D1: Nom ressource | E1: Nb. bonnes réponses | F1: sur | G1: Score décimal | H1: Date | I1: Heure | J1: Durée
A2: AL Ma | B2: CM1 | C2: 1 | D2: Quadricalc n°4 | E2: 7 | F2: 30 | G2: 0.23 | H2: 23/03/2015 | I2: 16:03:51 | J2: 00:01:35
A3: AL Ma | B3: CM1 | C3: 3 | D3: Table attaque n°4 | E3: 3 | F3: 30 | G3: 0.1 | H3: 23/03/2015 | I3: 16:19:04 | J3: 00:01:58
A4: AL Ma | B4: CM1 | C4: 2 | D4: Math brique n°4 | E4: 9 | F4: 10 | G4: 0.9 | H4: 23/03/2015 | I4: 16:05:32 | J4: 00:02:43
A5: AL Ma | B5: CM1 | C5: 5 | D5: Dans les bois n°4 | E5: 14 | F5: 20 | G5: 0.7 | H5: 23/03/2015 | I5: 16:08:52 | J5: 00:05:14
A6: AL Ma | B6: CM1 | C6: 11 | D6: Quadricalc n°4 | E6: 11 | F6: 20 | G6: 0.55 | H6: 23/03/2015 | I6: 16:16:02 | J6: 00:01:43
A7: CA Th | B7: CM1 | C7: 3 | D7: Table attaque n°4 | E7: 13 | F7: 30 | G7: 0.43 | H7: 23/03/2015 | I7: 16:17:43 | J7: 00:01:09
A8: CA Th | B8: CM1 | C8: 2 | D8: Math brique n°4 | E8: 9 | F8: 10 | G8: 0.9 | H8: 23/03/2015 | I8: 16:05:30 | J8: 00:02:40
A9: CA Th | B9: CM1 | C9: 10 | D9: Le plus proche n°4 | E9: 6 | F9: 10 | G9: 0.6 | H9: 23/03/2015 | I9: 16:21:10 | J9: 00:00:00
A10: CA Th | B10: CM1 | C10: 5 | D10: Dans les bois n°4 | E10: 13 | F10: 20 | G10: 0.65 | H10: 23/03/2015 | I10: 16:05:13 | J10: 00:00:00
A11: CA Th | B11: CM1 | C11: 6 | D11: La grenouille n°4 | E11: 13 | F11: 20 | G11: 0.65 | H11: 23/03/2015 | I11: 16:03:23 | J11: 00:01:50
A12: CA Th | B12: CM1 | C12: 9 | D12: Double, moitié n°4 | E12: 10 | F12: 10 | G12: 1 | H12: 30/03/2015 | I12: 16:03:44 | J12: 00:01:12
A13: CA Th | B13: CM1 | C13: 7 | D13: Le bus n°4 | E13: 4 | F13: 9 | G13: 0.44 | H13: 23/03/2015 | I13: 16:08:57 | J13: 00:06:17
A14: CI Dé | B14: CM1 | C14: 1 | D14: Quadricalc n°4 | E14: 8 | F14: 30 | G14: 0.27 | H14: 17/03/2015 | I14: 18:53:04 | J14: 00:01:18
A15: CI Dé | B15: CM1 | C15: 2 | D15: Math brique n°4 | E15: 9 | F15: 10 | G15: 0.9 | H15: 17/03/2015 | I15: 13:34:51 | J15: 00:03:07
A16: CI Dé | B16: CM1 | C16: 5 | D16: Dans les bois n°4 | E16: 19 | F16: 20 | G16: 0.95 | H16: 17/03/2015 | I16: 13:38:18 | J16: 00:04:04
A17: CO To | B17: CM1 | C17: 1 | D17: Quadricalc n°4 | E17: 19 | F17: 30 | G17: 0.63 | H17: 23/03/2015 | I17: 15:36:42 | J17: 00:01:19
A18: CO To | B18: CM1 | C18: 3 | D18: Table attaque n°4 | E18: 11 | F18: 30 | G18: 0.37 | H18: 23/03/2015 | I18: 15:40:40 | J18: 00:01:58
A19: CO To | B19: CM1 | C19: 2 | D19: Math brique n°4 | E19: 9 | F19: 10 | G19: 0.9 | H19: 23/03/2015 | I19: 15:38:30 | J19: 00:02:07
A20: CO To | B20: CM1 | C20: 10 | D20: Le plus proche n°4 | E20: 7 | F20: 10 | G20: 0.7 | H20: 23/03/2015 | I20: 15:58:05 | J20: 00:02:26
A21: CO To | B21: CM1 | C21: 4 | D21: Addiclic n°4 | E21: 6 | F21: 10 | G21: 0.6 | H21: 23/03/2015 | I21: 15:42:45 | J21: 00:01:28
A22: CO To | B22: CM1 | C22: 5 | D22: Dans les bois n°4 | E22: 19 | F22: 20 | G22: 0.95 | H22: 23/03/2015 | I22: 15:44:21 | J22: 00:05:18
A23: CO To | B23: CM1 | C23: 9 | D23: Double, moitié n°4 | E23: 10 | F23: 10 | G23: 1 | H23: 30/03/2015 | I23: 15:36:16 | J23: 00:01:23
A24: CO To | B24: CM1 | C24: 11 | D24: Quadricalc n°4 | E24: 14 | F24: 20 | G24: 0.7 | H24: 30/03/2015 | I24: 15:37:45 | J24: 00:01:22
A25: CO To | B25: CM1 | C25: 7 | D25: Le bus n°4 | E25: 8 | F25: 9 | G25: 0.89 | H25: 23/03/2015 | I25: 15:50:25 | J25: 00:07:17
A26: DE El | B26: CM1 | C26: 1 | D26: Quadricalc n°4 | E26: 2 | F26: 30 | G26: 0.07 | H26: 23/03/2015 | I26: 16:23:27 | J26: 00:00:27
A27: DE El | B27: CM1 | C27: 3 | D27: Table attaque n°4 | E27: 15 | F27: 30 | G27: 0.5 | H27: 23/03/2015 | I27: 16:24:04 | J27: 00:01:14
A28: DE El | B28: CM1 | C28: 2 | D28: Math brique n°4 | E28: 0 | F28: 10 | G28: 0 | H28: 19/03/2015 | I28: 18:55:49 | J28: 00:03:09
A29: DE El | B29: CM1 | C29: 10 | D29: Le plus proche n°4 | E29: 4 | F29: 10 | G29: 0.4 | H29: 30/03/2015 | I29: 16:02:31 | J29: 00:02:40
A30: DE El | B30: CM1 | C30: 4 | D30: Addiclic n°4 | E30: 7 | F30: 10 | G30: 0.7 | H30: 30/03/2015 | I30: 15:56:28 | J30: 00:01:15
A31: DE El | B31: CM1 | C31: 5 | D31: Dans les bois n°4 | E31: 19 | F31: 20 | G31: 0.95 | H31: 23/03/2015 | I31: 16:02:20 | J31: 00:04:47
A32: DE El | B32: CM1 | C32: 6 | D32: La grenouille n°4 | E32: 0 | F32: 2 | G32: 0 | H32: 30/03/2015 | I32: 15:59:29 | J32: 00:01:32
A33: DE El | B33: CM1 | C33: 8 | D33: Opérations à trous n°4 | E33: 5 | F33: 10 | G33: 0.5 | H33: 30/03/2015 | I33: 16:01:10 | J33: 00:01:17
A34: DE El | B34: CM1 | C34: 9 | D34: Double, moitié n°4 | E34: 6 | F34: 10 | G34: 0.6 | H34: 30/03/2015 | I34: 15:57:57 | J34: 00:01:27
A35: DE El | B35: CM1 | C35: 12 | D35: Diviclic n°4 | E35: 3 | F35: 10 | G35: 0.3 | H35: 23/03/2015 | I35: 16:23:12 | J35: 00:00:00
A36: DE El | B36: CM1 | C36: 11 | D36: Quadricalc n°4 | E36: 14 | F36: 20 | G36: 0.7 | H36: 30/03/2015 | I36: 16:05:17 | J36: 00:01:23
A37: DE El | B37: CM1 | C37: 7 | D37: Le bus n°4 | E37: 7 | F37: 9 | G37: 0.78 | H37: 23/03/2015 | I37: 16:09:15 | J37: 00:09:39
A38: EZ Qu | B38: CM1 | C38: 1 | D38: Quadricalc n°4 | E38: 14 | F38: 30 | G38: 0.47 | H38: 30/03/2015 | I38: 16:02:18 | J38: 00:01:07
A39: EZ Qu | B39: CM1 | C39: 3 | D39: Table attaque n°4 | E39: 16 | F39: 30 | G39: 0.53 | H39: 30/03/2015 | I39: 16:09:49 | J39: 00:01:24
A40: EZ Qu | B40: CM1 | C40: 2 | D40: Math brique n°4 | E40: 9 | F40: 10 | G40: 0.9 | H40: 23/03/2015 | I40: 16:07:31 | J40: 00:02:03
A41: EZ Qu | B41: CM1 | C41: 4 | D41: Addiclic n°4 | E41: 10 | F41: 10 | G41: 1 | H41: 23/03/2015 | I41: 16:19:45 | J41: 00:01:12
A42: EZ Qu | B42: CM1 | C42: 5 | D42: Dans les bois n°4 | E42: 19 | F42: 20 | G42: 0.95 | H42: 23/03/2015 | I42: 16:21:05 | J42: 00:04:16
A43: EZ Qu | B43: CM1 | C43: 6 | D43: La grenouille n°4 | E43: 0 | F43: 2 | G43: 0 | H43: 23/03/2015 | I43: 16:03:41 | J43: 00:01:29
A44: EZ Qu | B44: CM1 | C44: 9 | D44: Double, moitié n°4 | E44: 6 | F44: 10 | G44: 0.6 | H44: 30/03/2015 | I44: 15:56:53 | J44: 00:01:23
A45: EZ Qu | B45: CM1 | C45: 12 | D45: Diviclic n°4 | E45: 10 | F45: 10 | G45: 1 | H45: 30/03/2015 | I45: 16:05:27 | J45: 00:02:25
A46: EZ Qu | B46: CM1 | C46: 11 | D46: Quadricalc n°4 | E46: 17 | F46: 20 | G46: 0.85 | H46: 23/03/2015 | I46: 16:10:01 | J46: 00:01:23
A47: EZ Qu | B47: CM1 | C47: 7 | D47: Le bus n°4 | E47: 5 | F47: 9 | G47: 0.56 | H47: 23/03/2015 | I47: 16:12:55 | J47: 00:06:37
A48: FR Li | B48: CM1 | C48: 2 | D48: Math brique n°4 | E48: 9 | F48: 10 | G48: 0.9 | H48: 30/03/2015 | I48: 15:37:15 | J48: 00:03:24
A49: FR Li | B49: CM1 | C49: 10 | D49: Le plus proche n°4 | E49: 5 | F49: 10 | G49: 0.5 | H49: 30/03/2015 | I49: 15:50:48 | J49: 00:03:09
A50: FR Li | B50: CM1 | C50: 4 | D50: Addiclic n°4 | E50: 4 | F50: 10 | G50: 0.4 | H50: 23/03/2015 | I50: 15:55:59 | J50: 00:01:14
A51: FR Li | B51: CM1 | C51: 5 | D51: Dans les bois n°4 | E51: 19 | F51: 20 | G51: 0.95 | H51: 23/03/2015 | I51: 15:45:42 | J51: 00:05:30
A52: FR Li | B52: CM1 | C52: 9 | D52: Double, moitié n°4 | E52: 5 | F52: 10 | G52: 0.5 | H52: 23/03/2015 | I52: 15:57:26 | J52: 00:01:35
A53: FR Li | B53: CM1 | C53: 11 | D53: Quadricalc n°4 | E53: 11 | F53: 20 | G53: 0.55 | H53: 30/03/2015 | I53: 15:42:04 | J53: 00:01:41
A54: GA Fa | B54: CM1 | C54: 3 | D54: Table attaque n°4 | E54: 10 | F54: 30 | G54: 0.33 | H54: 23/03/2015 | I54: 15:44:47 | J54: 00:01:27
A55: GA Fa | B55: CM1 | C55: 5 | D55: Dans les bois n°4 | E55: 13 | F55: 20 | G55: 0.65 | H55: 23/03/2015 | I55: 15:46:23 | J55: 00:09:57
A56: GA Fa | B56: CM1 | C56: 12 | D56: Diviclic n°4 | E56: 8 | F56: 10 | G56: 0.8 | H56: 23/03/2015 | I56: 15:40:49 | J56: 00:03:52
A57: GA Fa | B57: CM1 | C57: 11 | D57: Quadricalc n°4 | E57: 6 | F57: 20 | G57: 0.3 | H57: 23/03/2015 | I57: 15:39:14 | J57: 00:01:18
... A59: GO Tr | B59: CM1 | C59: 3 | D59: Table attaque n°4 | E59: 23 | F59: 30 | G59: 0.77 | H59: 30/03/2015 | I59: 15:49:14 | J59: 00:00:00
A60: GO Tr | B60: CM1 | C60: 2 | D60: Math brique n°4 | E60: 10 | F60: 10 | G60: 1 | H60: 23/03/2015 | I60: 15:53:56 | J60: 00:01:59
A61: GO Tr | B61: CM1 | C61: 10 | D61: Le plus proche n°4 | E61: 9 | F61: 10 | G61: 0.9 | H61: 23/03/2015 | I61: 15:46:42 | J61: 00:02:18
A62: GO Tr | B62: CM1 | C62: 4 | D62: Addiclic n°4 | E62: 7 | F62: 10 | G62: 0.7 | H62: 23/03/2015 | I62: 15:52:25 | J62: 00:01:17
A63: GO Tr | B63: CM1 | C63: 5 | D63: Dans les bois n°4 | E63: 18 | F63: 20 | G63: 0.9 | H63: 30/03/2015 | I63: 15:43:47 | J63: 00:01:51
A64: GO Tr | B64: CM1 | C64: 8 | D64: Opérations à trous n°4 | E64: 10 | F64: 10 | G64: 1 | H64: 30/03/2015 | I64: 15:52:39 | J64: 00:00:00
A65: GO Tr | B65: CM1 | C65: 9 | D65: Double, moitié n°4 | E65: 10 | F65: 10 | G65: 1 | H65: 30/03/2015 | I65: 15:41:13 | J65: 00:00:51
A66: GO Tr | B66: CM1 | C66: 12 | D66: Diviclic n°4 | E66: 9 | F66: 10 | G66: 0.9 | H66: 23/03/2015 | I66: 15:49:33 | J66: 00:02:45
A67: GO Tr | B67: CM1 | C67: 11 | D67: Quadricalc n°4 | E67: 17 | F67: 20 | G67: 0.85 | H67: 23/03/2015 | I67: 15:45:41 | J67: 00:00:52
A68: GR Ma | B68: CM1 | C68: 4 | D68: Addiclic n°4 | E68: 6 | F68: 10 | G68: 0.6 | H68: 23/03/2015 | I68: 16:12:18 | J68: 00:01:12
A69: GR Ma | B69: CM1 | C69: 5 | D69: Dans les bois n°4 | E69: 19 | F69: 20 | G69: 0.95 | H69: 30/03/2015 | I69: 16:00:22 | J69: 00:02:30
A70: GR Ma | B70: CM1 | C70: 9 | D70: Double, moitié n°4 | E70: 3 | F70: 10 | G70: 0.3 | H70: 30/03/2015 | I70: 15:59:07 | J70: 00:01:01
A71: GR Ma | B71: CM1 | C71: 11 | D71: Quadricalc n°4 | E71: 4 | F71: 20 | G71: 0.2 | H71: 30/03/2015 | I71: 15:58:10 | J71: 00:00:46
A72: HU Ma | B72: CM1 | C72: 2 | D72: Math brique n°4 | E72: 7 | F72: 10 | G72: 0.7 | H72: 30/03/2015 | I72: 15:57:14 | J72: 00:03:28
A73: HU Ma | B73: CM1 | C73: 4 | D73: Addiclic n°4 | E73: 4 | F73: 10 | G73: 0.4 | H73: 23/03/2015 | I73: 16:11:39 | J73: 00:05:00
A74: HU Ma | B74: CM1 | C74: 5 | D74: Dans les bois n°4 | E74: 13 | F74: 20 | G74: 0.65 | H74: 30/03/2015 | I74: 16:03:42 | J74: 00:09:39
A75: KO Li | B75: CM1 | C75: 1 | D75: Quadricalc n°4 | E75: 18 | F75: 30 | G75: 0.6 | H75: 23/03/2015 | I75: 15:37:00 | J75: 00:01:12
A76: KO Li | B76: CM1 | C76: 4 | D76: Addiclic n°4 | E76: 7 | F76: 10 | G76: 0.7 | H76: 23/03/2015 | I76: 15:42:11 | J76: 00:01:20
A77: KO Li | B77: CM1 | C77: 5 | D77: Dans les bois n°4 | E77: 20 | F77: 20 | G77: 1 | H77: 23/03/2015 | I77: 15:38:38 | J77: 00:03:26
A78: KO Li | B78: CM1 | C78: 8 | D78: Opérations à trous n°4 | E78: 5 | F78: 10 | G78: 0.5 | H78: 30/03/2015 | I78: 15:50:10 | J78: 00:02:06
A79: KO Li | B79: CM1 | C79: 9 | D79: Double, moitié n°4 | E79: 8 | F79: 10 | G79: 0.8 | H79: 23/03/2015 | I79: 15:59:02 | J79: 00:01:09
A80: KO Li | B80: CM1 | C80: 11 | D80: Quadricalc n°4 | E80: 14 | F80: 20 | G80: 0.7 | H80: 23/03/2015 | I80: 15:50:16 | J80: 00:01:12
A81: KO Li | B81: CM1 | C81: 7 | D81: Le bus n°4 | E81: 6 | F81: 9 | G81: 0.67 | H81: 23/03/2015 | I81: 15:43:43 | J81: 00:06:19
A82: LA Su | B82: CM1 | C82: 1 | D82: Quadricalc n°4 | E82: 6 | F82: 30 | G82: 0.2 | H82: 30/03/2015 | I82: 15:52:23 | J82: 00:00:42
A83: LA Su | B83: CM1 | C83: 4 | D83: Addiclic n°4 | E83: 8 | F83: 10 | G83: 0.8 | H83: 23/03/2015 | I83: 15:38:19 | J83: 00:01:27
A84: LA Su | B84: CM1 | C84: 5 | D84: Dans les bois n°4 | E84: 17 | F84: 20 | G84: 0.85 | H84: 23/03/2015 | I84: 15:53:12 | J84: 00:03:28
A85: LA Su | B85: CM1 | C85: 9 | D85: Double, moitié n°4 | E85: 7 | F85: 10 | G85: 0.7 | H85: 23/03/2015 | I85: 15:58:29 | J85: 00:00:00
A86: LA Su | B86: CM1 | C86: 11 | D86: Quadricalc n°4 | E86: 9 | F86: 10 | G86: 0.9 | H86: 23/03/2015 | I86: 15:49:21 | J86: 00:03:41
A87: LA Su | B87: CM1 | C87: 7 | D87: Le bus n°4 | E87: 5 | F87: 9 | G87: 0.56 | H87: 23/03/2015 | I87: 15:41:47 | J87: 00:06:47
A88: LE Ro | B88: CM1 | C88: 2 | D88: Math brique n°4 | E88: 8 | F88: 10 | G88: 0.8 | H88: 23/03/2015 | I88: 15:42:33 | J88: 00:03:00
A89: LE Ro | B89: CM1 | C89: 4 | D89: Addiclic n°4 | E89: 7 | F89: 10 | G89: 0.7 | H89: 30/03/2015 | I89: 15:53:34 | J89: 00:00:00
A90: LE Ro | B90: CM1 | C90: 6 | D90: La grenouille n°4 | E90: 0 | F90: 2 | G90: 0 | H90: 30/03/2015 | I90: 15:44:35 | J90: 00:01:48
A91: LE Ro | B91: CM1 | C91: 9 | D91: Double, moitié n°4 | E91: 9 | F91: 10 | G91: 0.9 | H91: 30/03/2015 | I91: 15:42:55 | J91: 00:01:18
A92: LE Ro | B92: CM1 | C92: 11 | D92: Quadricalc n°4 | E92: 17 | F92: 20 | G92: 0.85 | H92: 30/03/2015 | I92: 15:49:04 | J92: 00:01:30
A93: LE En | B93: CM1 | C93: 1 | D93: Quadricalc n°4 | E93: 24 | F93: 30 | G93: 0.8 | H93: 30/03/2015 | I93: 15:57:44 | J93: 00:01:30
A94: LE En | B94: CM1 | C94: 3 | D94: Table attaque n°4 | E94: 9 | F94: 30 | G94: 0.3 | H94: 23/03/2015 | I94: 16:10:42 | J94: 00:01:12
A95: LE En | B95: CM1 | C95: 2 | D95: Math brique n°4 | E95: 10 | F95: 10 | G95: 1 | H95: 19/03/2015 | I95: 12:27:52 | J95: 00:04:08
A96: LE En | B96: CM1 | C96: 10 | D96: Le plus proche n°4 | E96: 10 | F96: 10 | G96: 1 | H96: 30/03/2015 | I96: 16:16:11 | J96: 00:01:50
A97: LE En | B97: CM1 | C97: 4 | D97: Addiclic n°4 | E97: 6 | F97: 10 | G97: 0.6 | H97: 19/03/2015 | I97: 12:33:41 | J97: 00:01:14
A98: LE En | B98: CM1 | C98: 5 | D98: Dans les bois n°4 | E98: 17 | F98: 20 | G98: 0.85 | H98: 23/03/2015 | I98: 16:13:09 | J98: 00:11:15
A99: LE En | B99: CM1 | C99: 9 | D99: Double, moitié n°4 | E99: 9 | F99: 10 | G99: 0.9 | H99: 30/03/2015 | I99: 16:13:58 | J99: 00:01:59
A100: LE En | B100: CM1 | C100: 11 | D100: Quadricalc n°4 | E100: 1 | F100: 20 | G100: 0.05 | H100: 19/03/2015 | I100: 13:00:25 | J100: 00:00:49
A101: MA Jo | B101: CM1 | C101: 10 | D101: Le plus proche n°4 | E101: 8 | F101: 10 | G101: 0.8 | H101: 18/03/2015 | I101: 19:47:10 | J101: 00:02:20
...

Sheet Mise en forme
A1: Elève | B1: Classe | C1: Exercice | D1: Score
A2: =IF(bilanSeance!A2<>"",bilanSeance!A2&" ("&bilanSeance!B2&")","") -> AL Ma (CM1) | B2: =IF(bilanSeance!A2<>"",bilanSeance!B2,"") -> CM1 | C2: =IF(bilanSeance!A2<>"",bilanSeance!D2&" (/"&bilanSeance!F2&")","") -> Quadricalc n°4 (/30) | D2: =IF(bilanSeance!A2<>"",bilanSeance!E2/bilanSeance!F2,"") -> 0.23333333
A3: =IF(bilanSeance!A3<>"",bilanSeance!A3&" ("&bilanSeance!B3&")","") -> AL Ma (CM1) | B3: =IF(bilanSeance!A3<>"",bilanSeance!B3,"") -> CM1 | C3: =IF(bilanSeance!A3<>"",bilanSeance!D3&" (/"&bilanSeance!F3&")","") -> Table attaque n°4 (/30) | D3: =IF(bilanSeance!A3<>"",bilanSeance!E3/bilanSeance!F3,"") -> 0.1
A4: =IF(bilanSeance!A4<>"",bilanSeance!A4&" ("&bilanSeance!B4&")","") -> AL Ma (CM1) | B4: =IF(bilanSeance!A4<>"",bilanSeance!B4,"") -> CM1 | C4: =IF(bilanSeance!A4<>"",bilanSeance!D4&" (/"&bilanSeance!F4&")","") -> Math brique n°4 (/10) | D4: =IF(bilanSeance!A4<>"",bilanSeance!E4/bilanSeance!F4,"") -> 0.9
A5: =IF(bilanSeance!A5<>"",bilanSeance!A5&" ("&bilanSeance!B5&")","") -> AL Ma (CM1) | B5: =IF(bilanSeance!A5<>"",bilanSeance!B5,"") -> CM1 | C5: =IF(bilanSeance!A5<>"",bilanSeance!D5&" (/"&bilanSeance!F5&")","") -> Dans les bois n°4 (/20) | D5: =IF(bilanSeance!A5<>"",bilanSeance!E5/bilanSeance!F5,"") -> 0.7
A6: =IF(bilanSeance!A6<>"",bilanSeance!A6&" ("&bilanSeance!B6&")","") -> AL Ma (CM1) | B6: =IF(bilanSeance!A6<>"",bilanSeance!B6,"") -> CM1 | C6: =IF(bilanSeance!A6<>"",bilanSeance!D6&" (/"&bilanSeance!F6&")","") -> Quadricalc n°4 (/20) | D6: =IF(bilanSeance!A6<>"",bilanSeance!E6/bilanSeance!F6,"") -> 0.55
A7: =IF(bilanSeance!A7<>"",bilanSeance!A7&" ("&bilanSeance!B7&")","") -> CA Th (CM1) | B7: =IF(bilanSeance!A7<>"",bilanSeance!B7,"") -> CM1 | C7: =IF(bilanSeance!A7<>"",bilanSeance!D7&" (/"&bilanSeance!F7&")","") -> Table attaque n°4 (/30) | D7: =IF(bilanSeance!A7<>"",bilanSeance!E7/bilanSeance!F7,"") -> 0.43333333
A8: =IF(bilanSeance!A8<>"",bilanSeance!A8&" ("&bilanSeance!B8&")","") -> CA Th (CM1) | B8: =IF(bilanSeance!A8<>"",bilanSeance!B8,"") -> CM1 | C8: =IF(bilanSeance!A8<>"",bilanSeance!D8&" (/"&bilanSeance!F8&")","") -> Math brique n°4 (/10) | D8: =IF(bilanSeance!A8<>"",bilanSeance!E8/bilanSeance!F8,"") -> 0.9
A9: =IF(bilanSeance!A9<>"",bilanSeance!A9&" ("&bilanSeance!B9&")","") -> CA Th (CM1) | B9: =IF(bilanSeance!A9<>"",bilanSeance!B9,"") -> CM1 | C9: =IF(bilanSeance!A9<>"",bilanSeance!D9&" (/"&bilanSeance!F9&")","") -> Le plus proche n°4 (/10) | D9: =IF(bilanSeance!A9<>"",bilanSeance!E9/bilanSeance!F9,"") -> 0.6
A10: =IF(bilanSeance!A10<>"",bilanSeance!A10&" ("&bilanSeance!B10&")","") -> CA Th (CM1) | B10: =IF(bilanSeance!A10<>"",bilanSeance!B10,"") -> CM1 | C10: =IF(bilanSeance!A10<>"",bilanSeance!D10&" (/"&bilanSeance!F10&")","") -> Dans les bois n°4 (/20) | D10: =IF(bilanSeance!A10<>"",bilanSeance!E10/bilanSeance!F10,"") -> 0.65
A11: =IF(bilanSeance!A11<>"",bilanSeance!A11&" ("&bilanSeance!B11&")","") -> CA Th (CM1) | B11: =IF(bilanSeance!A11<>"",bilanSeance!B11,"") -> CM1 | C11: =IF(bilanSeance!A11<>"",bilanSeance!D11&" (/"&bilanSeance!F11&")","") -> La grenouille n°4 (/20) | D11: =IF(bilanSeance!A11<>"",bilanSeance!E11/bilanSeance!F11,"") -> 0.65
A12: =IF(bilanSeance!A12<>"",bilanSeance!A12&" ("&bilanSeance!B12&")","") -> CA Th (CM1) | B12: =IF(bilanSeance!A12<>"",bilanSeance!B12,"") -> CM1 | C12: =IF(bilanSeance!A12<>"",bilanSeance!D12&" (/"&bilanSeance!F12&")","") -> Double, moitié n°4 (/10) | D12: =IF(bilanSeance!A12<>"",bilanSeance!E12/bilanSeance!F12,"") -> 1
A13: =IF(bilanSeance!A13<>"",bilanSeance!A13&" ("&bilanSeance!B13&")","") -> CA Th (CM1) | B13: =IF(bilanSeance!A13<>"",bilanSeance!B13,"") -> CM1 | C13: =IF(bilanSeance!A13<>"",bilanSeance!D13&" (/"&bilanSeance!F13&")","") -> Le bus n°4 (/9) | D13: =IF(bilanSeance!A13<>"",bilanSeance!E13/bilanSeance!F13,"") -> 0.44444444
... A1200: =IF(bilanSeance!A1200<>"",bilanSeance!A1200&" ("&bilanSeance!B1200&")","") | B1200: =IF(bilanSeance!A1200<>"",bilanSeance!B1200,"") | C1200: =IF(bilanSeance!A1200<>"",bilanSeance!D1200&" (/"&bilanSeance!F1200&")","") | D1200: =IF(bilanSeance!A1200<>"",bilanSeance!E1200/bilanSeance!F1200,"")

Sheet Tableau
A1: Bilan séance LaboMep
A3: Moyenne de Score | C3: Exercice
A4: Classe | B4: Elève | C4: Addiclic n°4 (/10) | D4: Dans les bois n°4 (/20) | E4: Diviclic n°4 (/10) | F4: Double, moitié n°4 (/10) | G4: La grenouille n°4 (/2) | H4: La grenouille n°4 (/20) | I4: Le bus n°4 (/9) | J4: Le plus proche n°4 (/10) | K4: Math brique n°4 (/10) | L4: Opérations à trous n°4 (/10) | M4: Quadricalc n°4 (/10) | N4: Quadricalc n°4 (/20) | O4: Quadricalc n°4 (/30) | P4: Table attaque n°4 (/30)
A5: CM1 | B5: AL Ma (CM1) | D5: 0.7 | K5: 0.9 | N5: 0.55 | O5: 0.23333333 | P5: 0.1
B6: CA Th (CM1) | D6: 0.65 | F6: 1 | H6: 0.65 | I6: 0.44444444 | J6: 0.6 | K6: 0.9 | P6: 0.43333333
B7: CI Dé (CM1) | D7: 0.95 | K7: 0.9 | O7: 0.26666667
B8: CO To (CM1) | C8: 0.6 | D8: 0.95 | F8: 1 | I8: 0.88888889 | J8: 0.7 | K8: 0.9 | N8: 0.7 | O8: 0.63333333 | P8: 0.36666667
B9: DE El (CM1) | C9: 0.7 | D9: 0.95 | E9: 0.3 | F9: 0.6 | G9: 0 | I9: 0.77777778 | J9: 0.4 | K9: 0 | L9: 0.5 | N9: 0.7 | O9: 0.066666667 | P9: 0.5
B10: EZ Qu (CM1) | C10: 1 | D10: 0.95 | E10: 1 | F10: 0.6 | G10: 0 | I10: 0.55555556 | K10: 0.9 | N10: 0.85 | O10: 0.46666667 | P10: 0.53333333
B11: FR Li (CM1) | C11: 0.4 | D11: 0.95 | F11: 0.5 | J11: 0.5 | K11: 0.9 | N11: 0.55
B12: GA Fa (CM1) | D12: 0.65 | E12: 0.8 | N12: 0.3 | P12: 0.33333333
B13: GO Tr (CM1) | C13: 0.7 | D13: 0.9 | E13: 0.9 | F13: 1 | J13: 0.9 | K13: 1 | L13: 1 | N13: 0.85 | O13: 0.86666667 | P13: 0.76666667
B14: GR Ma (CM1) | C14: 0.6 | D14: 0.95 | F14: 0.3 | N14: 0.2
B15: HU Ma (CM1) | C15: 0.4 | D15: 0.65 | K15: 0.7
B16: KO Li (CM1) | C16: 0.7 | D16: 1 | F16: 0.8 | I16: 0.66666667 | L16: 0.5 | N16: 0.7 | O16: 0.6
B17: LA Su (CM1) | C17: 0.8 | D17: 0.85 | F17: 0.7 | I17: 0.55555556 | M17: 0.9 | O17: 0.2
B18: LE En (CM1) | C18: 0.6 | D18: 0.85 | F18: 0.9 | J18: 1 | K18: 1 | N18: 0.05 | O18: 0.8 | P18: 0.3
B19: LE Ro (CM1) | C19: 0.7 | F19: 0.9 | G19: 0 | K19: 0.8 | N19: 0.85
B20: MA Jo (CM1) | D20: 0.05 | G20: 0 | J20: 0.8
B21: MA St (CM1) | C21: 1 | D21: 0.95 | E21: 1 | F21: 1 | G21: 0 | I21: 0.77777778 | J21: 1 | K21: 1 | L21: 0.2 | N21: 0.8 | O21: 0.73333333 | P21: 0.66666667
B22: MO Ma (CM1) | D22: 0.45
B23: NA Al (CM1) | D23: 0.8 | G23: 0 | I23: 0.66666667 | J23: 0.7 | K23: 0.9
B24: PR An (CM1) | C24: 0.7 | D24: 0.85 | F24: 0.9 | J24: 0.6 | K24: 0.9 | O24: 0 | P24: 0.13333333
B25: RO El (CM1) | C25: 0.4 | D25: 0.85 | G25: 0 | K25: 0.7 | N25: 0.7 | O25: 0.3 | P25: 0.5
B26: SE Yu (CM1) | C26: 0.6 | D26: 0.75 | F26: 0.4 | J26: 0.4 | K26: 0.3 | L26: 0.2 | N26: 0.25 | O26: 0.6 | P26: 0.4
B27: TO Ar (CM1) | C27: 0.9 | D27: 0.95 | E27: 1 | F27: 1 | G27: 0 | I27: 0.77777778 | K27: 1 | L27: 0.4 | N27: 0.6 | O27: 0.43333333 | P27: 0.53333333
B28: YÜ Yu (CM1) | C28: 0.7 | D28: 1 | K28: 1 | O28: 0.16666667
