Workbook

Sheet Accueil
B2: Analyse résultats LaboMep
B4: Version 1.0 mai 2015
B6: Mise en oeuvre
B8: Dans la première feuille de ce classeur (bilanSeance), importer les données du fichier csv :
B10: Cliquer en A1 dans cette feuille.
B11: Onglet "Données", "A partir du texte" (tout à gauche). Chercher le fichier .csv et l’assistant d’importation va se lancer.
B12: Si l’origine du fichier paraît exotique (caractères étranges dans l’aperçu), choisir Windows (ANSI) dans la liste. Cliquer sur "Suivant"
B13: Décocher "Tabulation" et cocher "Point-virgule", "Terminer"
B14: Si vous êtes bien dans la case A1, "Insertion de données" est proposée à cet endroit, "OK"
B15: Dans l’onglet "Données", cliquer sur "Actualiser tout"
B16: Tout le reste du tableau est calculé. Il n’y a rien à saisir. La feuille "Mise en forme" n’est pas à utiliser, seulement de Tableau et Graphique
B18: Tableau
... B38: Le tableau fourni ici est proposé avec des résultats. Pensez à les supprimer dans la feuille bilanSeance avant de l’utiliser.

Sheet bilanSeance
A1: Élève | B1: Classe | C1: Numéro ressource | D1: Nom ressource | E1: Nb. bonnes réponses | F1: sur | G1: Score décimal | H1: Date | I1: Heure | J1: Durée
A2: AL Ma | B2: CM1 | C2: 1 | D2: Quadricalc n°4 | E2: 7 | F2: 30 | G2: 0.23 | H2: 23/03/2015 | I2: 16:03:51 | J2: 00:01:35
A3: AL Ma | B3: CM1 | C3: 3 | D3: Table attaque n°4 | E3: 3 | F3: 30 | G3: 0.1 | H3: 23/03/2015 | I3: 16:19:04 | J3: 00:01:58
A4: AL Ma | B4: CM1 | C4: 2 | D4: Math brique n°4 | E4: 9 | F4: 10 | G4: 0.9 | H4: 23/03/2015 | I4: 16:05:32 | J4: 00:02:43
A5: AL Ma | B5: CM1 | C5: 5 | D5: Dans les bois n°4 | E5: 14 | F5: 20 | G5: 0.7 | H5: 23/03/2015 | I5: 16:08:52 | J5: 00:05:14
A6: AL Ma | B6: CM1 | C6: 11 | D6: Quadricalc n°4 | E6: 11 | F6: 20 | G6: 0.55 | H6: 23/03/2015 | I6: 16:16:02 | J6: 00:01:43
A7: CA Th | B7: CM1 | C7: 3 | D7: Table attaque n°4 | E7: 13 | F7: 30 | G7: 0.43 | H7: 23/03/2015 | I7: 16:17:43 | J7: 00:01:09
A8: CA Th | B8: CM1 | C8: 2 | D8: Math brique n°4 | E8: 9 | F8: 10 | G8: 0.9 | H8: 23/03/2015 | I8: 16:05:30 | J8: 00:02:40
A9: CA Th | B9: CM1 | C9: 10 | D9: Le plus proche n°4 | E9: 6 | F9: 10 | G9: 0.6 | H9: 23/03/2015 | I9: 16:21:10 | J9: 00:00:00
A10: CA Th | B10: CM1 | C10: 5 | D10: Dans les bois n°4 | E10: 13 | F10: 20 | G10: 0.65 | H10: 23/03/2015 | I10: 16:05:13 | J10: 00:00:00
A11: CA Th | B11: CM1 | C11: 6 | D11: La grenouille n°4 | E11: 13 | F11: 20 | G11: 0.65 | H11: 23/03/2015 | I11: 16:03:23 | J11: 00:01:50
A12: CA Th | B12: CM1 | C12: 9 | D12: Double, moitié n°4 | E12: 10 | F12: 10 | G12: 1 | H12: 30/03/2015 | I12: 16:03:44 | J12: 00:01:12
A13: CA Th | B13: CM1 | C13: 7 | D13: Le bus n°4 | E13: 4 | F13: 9 | G13: 0.44 | H13: 23/03/2015 | I13: 16:08:57 | J13: 00:06:17
A14: CI Dé | B14: CM1 | C14: 1 | D14: Quadricalc n°4 | E14: 8 | F14: 30 | G14: 0.27 | H14: 17/03/2015 | I14: 18:53:04 | J14: 00:01:18
A15: CI Dé | B15: CM1 | C15: 2 | D15: Math brique n°4 | E15: 9 | F15: 10 | G15: 0.9 | H15: 17/03/2015 | I15: 13:34:51 | J15: 00:03:07
A16: CI Dé | B16: CM1 | C16: 5 | D16: Dans les bois n°4 | E16: 19 | F16: 20 | G16: 0.95 | H16: 17/03/2015 | I16: 13:38:18 | J16: 00:04:04
A17: CO To | B17: CM1 | C17: 1 | D17: Quadricalc n°4 | E17: 19 | F17: 30 | G17: 0.63 | H17: 23/03/2015 | I17: 15:36:42 | J17: 00:01:19
A18: CO To | B18: CM1 | C18: 3 | D18: Table attaque n°4 | E18: 11 | F18: 30 | G18: 0.37 | H18: 23/03/2015 | I18: 15:40:40 | J18: 00:01:58
A19: CO To | B19: CM1 | C19: 2 | D19: Math brique n°4 | E19: 9 | F19: 10 | G19: 0.9 | H19: 23/03/2015 | I19: 15:38:30 | J19: 00:02:07
A20: CO To | B20: CM1 | C20: 10 | D20: Le plus proche n°4 | E20: 7 | F20: 10 | G20: 0.7 | H20: 23/03/2015 | I20: 15:58:05 | J20: 00:02:26
A21: CO To | B21: CM1 | C21: 4 | D21: Addiclic n°4 | E21: 6 | F21: 10 | G21: 0.6 | H21: 23/03/2015 | I21: 15:42:45 | J21: 00:01:28
A22: CO To | B22: CM1 | C22: 5 | D22: Dans les bois n°4 | E22: 19 | F22: 20 | G22: 0.95 | H22: 23/03/2015 | I22: 15:44:21 | J22: 00:05:18
A23: CO To | B23: CM1 | C23: 9 | D23: Double, moitié n°4 | E23: 10 | F23: 10 | G23: 1 | H23: 30/03/2015 | I23: 15:36:16 | J23: 00:01:23
A24: CO To | B24: CM1 | C24: 11 | D24: Quadricalc n°4 | E24: 14 | F24: 20 | G24: 0.7 | H24: 30/03/2015 | I24: 15:37:45 | J24: 00:01:22
A25: CO To | B25: CM1 | C25: 7 | D25: Le bus n°4 | E25: 8 | F25: 9 | G25: 0.89 | H25: 23/03/2015 | I25: 15:50:25 | J25: 00:07:17
A26: DE El | B26: CM1 | C26: 1 | D26: Quadricalc n°4 | E26: 2 | F26: 30 | G26: 0.07 | H26: 23/03/2015 | I26: 16:23:27 | J26: 00:00:27
A27: DE El | B27: CM1 | C27: 3 | D27: Table attaque n°4 | E27: 15 | F27: 30 | G27: 0.5 | H27: 23/03/2015 | I27: 16:24:04 | J27: 00:01:14
A28: DE El | B28: CM1 | C28: 2 | D28: Math brique n°4 | E28: 0 | F28: 10 | G28: 0 | H28: 19/03/2015 | I28: 18:55:49 | J28: 00:03:09
A29: DE El | B29: CM1 | C29: 10 | D29: Le plus proche n°4 | E29: 4 | F29: 10 | G29: 0.4 | H29: 30/03/2015 | I29: 16:02:31 | J29: 00:02:40
A30: DE El | B30: CM1 | C30: 4 | D30: Addiclic n°4 | E30: 7 | F30: 10 | G30: 0.7 | H30: 30/03/2015 | I30: 15:56:28 | J30: 00:01:15
A31: DE El | B31: CM1 | C31: 5 | D31: Dans les bois n°4 | E31: 19 | F31: 20 | G31: 0.95 | H31: 23/03/2015 | I31: 16:02:20 | J31: 00:04:47
A32: DE El | B32: CM1 | C32: 6 | D32: La grenouille n°4 | E32: 0 | F32: 2 | G32: 0 | H32: 30/03/2015 | I32: 15:59:29 | J32: 00:01:32
A33: DE El | B33: CM1 | C33: 8 | D33: Opérations à trous n°4 | E33: 5 | F33: 10 | G33: 0.5 | H33: 30/03/2015 | I33: 16:01:10 | J33: 00:01:17
A34: DE El | B34: CM1 | C34: 9 | D34: Double, moitié n°4 | E34: 6 | F34: 10 | G34: 0.6 | H34: 30/03/2015 | I34: 15:57:57 | J34: 00:01:27
A35: DE El | B35: CM1 | C35: 12 | D35: Diviclic n°4 | E35: 3 | F35: 10 | G35: 0.3 | H35: 23/03/2015 | I35: 16:23:12 | J35: 00:00:00
A36: DE El | B36: CM1 | C36: 11 | D36: Quadricalc n°4 | E36: 14 | F36: 20 | G36: 0.7 | H36: 30/03/2015 | I36: 16:05:17 | J36: 00:01:23
A37: DE El | B37: CM1 | C37: 7 | D37: Le bus n°4 | E37: 7 | F37: 9 | G37: 0.78 | H37: 23/03/2015 | I37: 16:09:15 | J37: 00:09:39
A38: EZ Qu | B38: CM1 | C38: 1 | D38: Quadricalc n°4 | E38: 14 | F38: 30 | G38: 0.47 | H38: 30/03/2015 | I38: 16:02:18 | J38: 00:01:07
A39: EZ Qu | B39: CM1 | C39: 3 | D39: Table attaque n°4 | E39: 16 | F39: 30 | G39: 0.53 | H39: 30/03/2015 | I39: 16:09:49 | J39: 00:01:24
A40: EZ Qu | B40: CM1 | C40: 2 | D40: Math brique n°4 | E40: 9 | F40: 10 | G40: 0.9 | H40: 23/03/2015 | I40: 16:07:31 | J40: 00:02:03
...

Sheet Mise en forme
A1: Elève | B1: Classe | C1: Exercice | D1: Score
A2: =IF(bilanSeance!A2<>"",bilanSeance!A2&" ("&bilanSeance!B2&")","") -> AL Ma (CM1) | B2: =IF(bilanSeance!A2<>"",bilanSeance!B2,"") -> CM1 | C2: =IF(bilanSeance!A2<>"",bilanSeance!D2&" (/"&bilanSeance!F2&")","") -> Quadricalc n°4 (/30) | D2: =IF(bilanSeance!A2<>"",bilanSeance!E2/bilanSeance!F2,"") -> 0.23333333
A3: =IF(bilanSeance!A3<>"",bilanSeance!A3&" ("&bilanSeance!B3&")","") -> AL Ma (CM1) | B3: =IF(bilanSeance!A3<>"",bilanSeance!B3,"") -> CM1 | C3: =IF(bilanSeance!A3<>"",bilanSeance!D3&" (/"&bilanSeance!F3&")","") -> Table attaque n°4 (/30) | D3: =IF(bilanSeance!A3<>"",bilanSeance!E3/bilanSeance!F3,"") -> 0.1
A4: =IF(bilanSeance!A4<>"",bilanSeance!A4&" ("&bilanSeance!B4&")","") -> AL Ma (CM1) | B4: =IF(bilanSeance!A4<>"",bilanSeance!B4,"") -> CM1 | C4: =IF(bilanSeance!A4<>"",bilanSeance!D4&" (/"&bilanSeance!F4&")","") -> Math brique n°4 (/10) | D4: =IF(bilanSeance!A4<>"",bilanSeance!E4/bilanSeance!F4,"") -> 0.9
A5: =IF(bilanSeance!A5<>"",bilanSeance!A5&" ("&bilanSeance!B5&")","") -> AL Ma (CM1) | B5: =IF(bilanSeance!A5<>"",bilanSeance!B5,"") -> CM1 | C5: =IF(bilanSeance!A5<>"",bilanSeance!D5&" (/"&bilanSeance!F5&")","") -> Dans les bois n°4 (/20) | D5: =IF(bilanSeance!A5<>"",bilanSeance!E5/bilanSeance!F5,"") -> 0.7
A6: =IF(bilanSeance!A6<>"",bilanSeance!A6&" ("&bilanSeance!B6&")","") -> AL Ma (CM1) | B6: =IF(bilanSeance!A6<>"",bilanSeance!B6,"") -> CM1 | C6: =IF(bilanSeance!A6<>"",bilanSeance!D6&" (/"&bilanSeance!F6&")","") -> Quadricalc n°4 (/20) | D6: =IF(bilanSeance!A6<>"",bilanSeance!E6/bilanSeance!F6,"") -> 0.55
A7: =IF(bilanSeance!A7<>"",bilanSeance!A7&" ("&bilanSeance!B7&")","") -> CA Th (CM1) | B7: =IF(bilanSeance!A7<>"",bilanSeance!B7,"") -> CM1 | C7: =IF(bilanSeance!A7<>"",bilanSeance!D7&" (/"&bilanSeance!F7&")","") -> Table attaque n°4 (/30) | D7: =IF(bilanSeance!A7<>"",bilanSeance!E7/bilanSeance!F7,"") -> 0.43333333
A8: =IF(bilanSeance!A8<>"",bilanSeance!A8&" ("&bilanSeance!B8&")","") -> CA Th (CM1) | B8: =IF(bilanSeance!A8<>"",bilanSeance!B8,"") -> CM1 | C8: =IF(bilanSeance!A8<>"",bilanSeance!D8&" (/"&bilanSeance!F8&")","") -> Math brique n°4 (/10) | D8: =IF(bilanSeance!A8<>"",bilanSeance!E8/bilanSeance!F8,"") -> 0.9
A9: =IF(bilanSeance!A9<>"",bilanSeance!A9&" ("&bilanSeance!B9&")","") -> CA Th (CM1) | B9: =IF(bilanSeance!A9<>"",bilanSeance!B9,"") -> CM1 | C9: =IF(bilanSeance!A9<>"",bilanSeance!D9&" (/"&bilanSeance!F9&")","") -> Le plus proche n°4 (/10) | D9: =IF(bilanSeance!A9<>"",bilanSeance!E9/bilanSeance!F9,"") -> 0.6
A10: =IF(bilanSeance!A10<>"",bilanSeance!A10&" ("&bilanSeance!B10&")","") -> CA Th (CM1) | B10: =IF(bilanSeance!A10<>"",bilanSeance!B10,"") -> CM1 | C10: =IF(bilanSeance!A10<>"",bilanSeance!D10&" (/"&bilanSeance!F10&")","") -> Dans les bois n°4 (/20) | D10: =IF(bilanSeance!A10<>"",bilanSeance!E10/bilanSeance!F10,"") -> 0.65
A11: =IF(bilanSeance!A11<>"",bilanSeance!A11&" ("&bilanSeance!B11&")","") -> CA Th (CM1) | B11: =IF(bilanSeance!A11<>"",bilanSeance!B11,"") -> CM1 | C11: =IF(bilanSeance!A11<>"",bilanSeance!D11&" (/"&bilanSeance!F11&")","") -> La grenouille n°4 (/20) | D11: =IF(bilanSeance!A11<>"",bilanSeance!E11/bilanSeance!F11,"") -> 0.65
A12: =IF(bilanSeance!A12<>"",bilanSeance!A12&" ("&bilanSeance!B12&")","") -> CA Th (CM1) | B12: =IF(bilanSeance!A12<>"",bilanSeance!B12,"") -> CM1 | C12: =IF(bilanSeance!A12<>"",bilanSeance!D12&" (/"&bilanSeance!F12&")","") -> Double, moitié n°4 (/10) | D12: =IF(bilanSeance!A12<>"",bilanSeance!E12/bilanSeance!F12,"") -> 1
A13: =IF(bilanSeance!A13<>"",bilanSeance!A13&" ("&bilanSeance!B13&")","") -> CA Th (CM1) | B13: =IF(bilanSeance!A13<>"",bilanSeance!B13,"") -> CM1 | C13: =IF(bilanSeance!A13<>"",bilanSeance!D13&" (/"&bilanSeance!F13&")","") -> Le bus n°4 (/9) | D13: =IF(bilanSeance!A13<>"",bilanSeance!E13/bilanSeance!F13,"") -> 0.44444444
... A1200: =IF(bilanSeance!A1200<>"",bilanSeance!A1200&" ("&bilanSeance!B1200&")","") | B1200: =IF(bilanSeance!A1200<>"",bilanSeance!B1200,"") | C1200: =IF(bilanSeance!A1200<>"",bilanSeance!D1200&" (/"&bilanSeance!F1200&")","") | D1200: =IF(bilanSeance!A1200<>"",bilanSeance!E1200/bilanSeance!F1200,"")

Sheet Tableau
A1: Bilan séance LaboMep
A3: Moyenne de Score | C3: Exercice
A4: Classe | B4: Elève | C4: Addiclic n°4 (/10) | D4: Dans les bois n°4 (/20) | E4: Diviclic n°4 (/10) | F4: Double, moitié n°4 (/10) | G4: La grenouille n°4 (/2) | H4: La grenouille n°4 (/20) | I4: Le bus n°4 (/9) | J4: Le plus proche n°4 (/10) | K4: Math brique n°4 (/10) | L4: Opérations à trous n°4 (/10) | M4: Quadricalc n°4 (/10) | N4: Quadricalc n°4 (/20) | O4: Quadricalc n°4 (/30) | P4: Table attaque n°4 (/30)
A5: CM1 | B5: AL Ma (CM1) | D5: 0.7 | K5: 0.9 | N5: 0.55 | O5: 0.23333333 | P5: 0.1
B6: CA Th (CM1) | D6: 0.65 | F6: 1 | H6: 0.65 | I6: 0.44444444 | J6: 0.6 | K6: 0.9 | P6: 0.43333333
B7: CI Dé (CM1) | D7: 0.95 | K7: 0.9 | O7: 0.26666667
B8: CO To (CM1) | C8: 0.6 | D8: 0.95 | F8: 1 | I8: 0.88888889 | J8: 0.7 | K8: 0.9 | N8: 0.7 | O8: 0.63333333 | P8: 0.36666667
B9: DE El (CM1) | C9: 0.7 | D9: 0.95 | E9: 0.3 | F9: 0.6 | G9: 0 | I9: 0.77777778 | J9: 0.4 | K9: 0 | L9: 0.5 | N9: 0.7 | O9: 0.066666667 | P9: 0.5
B10: EZ Qu (CM1) | C10: 1 | D10: 0.95 | E10: 1 | F10: 0.6 | G10: 0 | I10: 0.55555556 | K10: 0.9 | N10: 0.85 | O10: 0.46666667 | P10: 0.53333333
B11: FR Li (CM1) | C11: 0.4 | D11: 0.95 | F11: 0.5 | J11: 0.5 | K11: 0.9 | N11: 0.55
B12: GA Fa (CM1) | D12: 0.65 | E12: 0.8 | N12: 0.3 | P12: 0.33333333
B13: GO Tr (CM1) | C13: 0.7 | D13: 0.9 | E13: 0.9 | F13: 1 | J13: 0.9 | K13: 1 | L13: 1 | N13: 0.85 | O13: 0.86666667 | P13: 0.76666667
B14: GR Ma (CM1) | C14: 0.6 | D14: 0.95 | F14: 0.3 | N14: 0.2
B15: HU Ma (CM1) | C15: 0.4 | D15: 0.65 | K15: 0.7
B16: KO Li (CM1) | C16: 0.7 | D16: 1 | F16: 0.8 | I16: 0.66666667 | L16: 0.5 | N16: 0.7 | O16: 0.6
B17: LA Su (CM1) | C17: 0.8 | D17: 0.85 | F17: 0.7 | I17: 0.55555556 | M17: 0.9 | O17: 0.2
B18: LE En (CM1) | C18: 0.6 | D18: 0.85 | F18: 0.9 | J18: 1 | K18: 1 | N18: 0.05 | O18: 0.8 | P18: 0.3
B19: LE Ro (CM1) | C19: 0.7 | F19: 0.9 | G19: 0 | K19: 0.8 | N19: 0.85
B20: MA Jo (CM1) | D20: 0.05 | G20: 0 | J20: 0.8
B21: MA St (CM1) | C21: 1 | D21: 0.95 | E21: 1 | F21: 1 | G21: 0 | I21: 0.77777778 | J21: 1 | K21: 1 | L21: 0.2 | N21: 0.8 | O21: 0.73333333 | P21: 0.66666667
B22: MO Ma (CM1) | D22: 0.45
B23: NA Al (CM1) | D23: 0.8 | G23: 0 | I23: 0.66666667 | J23: 0.7 | K23: 0.9
B24: PR An (CM1) | C24: 0.7 | D24: 0.85 | F24: 0.9 | J24: 0.6 | K24: 0.9 | O24: 0 | P24: 0.13333333
B25: RO El (CM1) | C25: 0.4 | D25: 0.85 | G25: 0 | K25: 0.7 | N25: 0.7 | O25: 0.3 | P25: 0.5
B26: SE Yu (CM1) | C26: 0.6 | D26: 0.75 | F26: 0.4 | J26: 0.4 | K26: 0.3 | L26: 0.2 | N26: 0.25 | O26: 0.6 | P26: 0.4
B27: TO Ar (CM1) | C27: 0.9 | D27: 0.95 | E27: 1 | F27: 1 | G27: 0 | I27: 0.77777778 | K27: 1 | L27: 0.4 | N27: 0.6 | O27: 0.43333333 | P27: 0.53333333
B28: YÜ Yu (CM1) | C28: 0.7 | D28: 1 | K28: 1 | O28: 0.16666667
